BEGIN:VCALENDAR
VERSION:2.0
PRODID:-//Fundación Japón - ECPv6.15.20//NONSGML v1.0//EN
CALSCALE:GREGORIAN
METHOD:PUBLISH
X-WR-CALNAME:Fundación Japón
X-ORIGINAL-URL:https://mc.jpf.go.jp
X-WR-CALDESC:Eventos para Fundación Japón
REFRESH-INTERVAL;VALUE=DURATION:PT1H
X-Robots-Tag:noindex
X-PUBLISHED-TTL:PT1H
BEGIN:VTIMEZONE
TZID:America/Mexico_City
BEGIN:DAYLIGHT
TZOFFSETFROM:-0600
TZOFFSETTO:-0500
TZNAME:CDT
DTSTART:20230402T080000
END:DAYLIGHT
BEGIN:STANDARD
TZOFFSETFROM:-0500
TZOFFSETTO:-0600
TZNAME:CST
DTSTART:20231029T070000
END:STANDARD
BEGIN:DAYLIGHT
TZOFFSETFROM:-0600
TZOFFSETTO:-0500
TZNAME:CDT
DTSTART:20240407T080000
END:DAYLIGHT
BEGIN:STANDARD
TZOFFSETFROM:-0500
TZOFFSETTO:-0600
TZNAME:CST
DTSTART:20241027T070000
END:STANDARD
BEGIN:DAYLIGHT
TZOFFSETFROM:-0600
TZOFFSETTO:-0500
TZNAME:CDT
DTSTART:20250406T080000
END:DAYLIGHT
BEGIN:STANDARD
TZOFFSETFROM:-0500
TZOFFSETTO:-0600
TZNAME:CST
DTSTART:20251026T070000
END:STANDARD
END:VTIMEZONE
BEGIN:VEVENT
DTSTART;TZID=America/Mexico_City:20240117T103000
DTEND;TZID=America/Mexico_City:20240310T170000
DTSTAMP:20260425T113251
CREATED:20240108T220159Z
LAST-MODIFIED:20240124T001916Z
UID:9195-1705487400-1710090000@mc.jpf.go.jp
SUMMARY:Exposición "Netsuke. Japón en miniatura"
DESCRIPTION:Fundación Japón los invita a la exposición “Netsuke. Japón en Miniatura”\, en el Museo Universitario Casa de los Muñecos\, del 17 de enero al 10 de marzo de 2024. \n\n\n\n\n\n\n\n \n\n\n\nLos netsuke (根付) son esculturas en miniatura\, originarias del siglo XVII en Japón\, usadas a forma de sujetadores o botones para los contenedores o bolsas en donde los japoneses guardaban sus pertenencias\, a falta de bolsillos en las vestimentas tradicionales como los kosode o kimono. Esta exposición presenta netsuke tallados en madera\, creados por artistas contemporáneos. \n\n\n\nLa muestra es parte de las exposiciones itinerantes de The Japan Foundation 国際交流基金\, como parte del esfuerzo de llevar el arte y la cultura japonesa a diversos países. \n\n\n\n \n\n\n\n¡Los esperamos!
URL:https://mc.jpf.go.jp/evento/inauguracion-de-la-exposicion-netsuke-japon-en-miniatura/
LOCATION:Museo Universitario Casa de los Muñecos\, 2 Norte No. 2\, Centro Histórico\, Puebla\, Puebla\, 72000\, Mexico
CATEGORIES:Arte y Cultura
ATTACH;FMTTYPE=image/jpeg:https://mc.jpf.go.jp/wp-content/uploads/2024/01/NH-INAUGURACION_Netsuke-scaled.jpg
END:VEVENT
BEGIN:VEVENT
DTSTART;TZID=America/Mexico_City:20240311T100000
DTEND;TZID=America/Mexico_City:20240315T183000
DTSTAMP:20260425T113251
CREATED:20240313T181114Z
LAST-MODIFIED:20240313T181115Z
UID:9533-1710151200-1710527400@mc.jpf.go.jp
SUMMARY:"Japón en la Escuela Nacional Preparatoria"
DESCRIPTION:¡Japón llega a la Escuela Nacional Preparatoria! Del 11 al 15 de marzo Fundación Japón en México 国際交流基金メキシコ日本文化センター\, Pentel de Mexico y la Secretaría de Difusión Cultural de la Escuela Nacional Preparatoria presentan “Japón en la ENP”\, un ciclo de actividades para celebrar y difundir la cultura japonesa. \n\n\n\n \n\n\n\n\n\n\n\nEntre las actividades habrá exposiciones de yukatas\, juguetes y comida modelada; talleres de idioma japonés y de dibujo con tinta al estilo japonés; además de proyecciones de películas japonesas. Todas las actividades serán gratuitas\, si quieres participar sólo tienes que estar al pendiente de las redes sociales de la Fundación Japón y de la Secretaría de Difusión Cultural de la Escuela Nacional Preparatoria. \n\n\n\nAcompáñenos a conocer la cultura del país del sol naciente.
URL:https://mc.jpf.go.jp/evento/japon-en-la-enp/
LOCATION:Secretaría de Difusión Cultural de la Escuela Nacional Preparatoria\, San Ildefonso 30\, Colonia Centro\, Delegación Cuauhtémoc\, Mexico City\, Ciudad de México\, 06020\, Mexico
CATEGORIES:Arte y Cultura
ATTACH;FMTTYPE=image/png:https://mc.jpf.go.jp/wp-content/uploads/2024/03/Japon-ENP-web.png
END:VEVENT
BEGIN:VEVENT
DTSTART;TZID=America/Mexico_City:20240316T153000
DTEND;TZID=America/Mexico_City:20240316T170000
DTSTAMP:20260425T113251
CREATED:20240226T234954Z
LAST-MODIFIED:20240308T213350Z
UID:9359-1710603000-1710608400@mc.jpf.go.jp
SUMMARY:Universos Narrativos en el Manga y el Anime ¿Qué los hace interesantes?
DESCRIPTION:¿Te gusta el manga y los videojuegos? Entonces no te puedes perder la charla que tenemos preparada para ti este próximo SÁBADO 16 DE MARZO a las 15:30h en el Auditorio de la Biblioteca Vasconcelos. \n\n\n\n \n\n\n\n\n\n\n\n \n\n\n\nTendremos de invitados especiales a Tsuru Daisaku\, ilustrador de manga y antropólogo\, quien conversará junto con Gabriel Mandujano\, investigador del Círculo de Estudios sobre Subcultura Japonesa en México\, sobre las características que hacen de la mitología y lore de los medios de entretenimiento tan atractivos para el público tanto dentro como fuera de Japón. \n\n\n\n \n\n\n\n\nEl perfil del Dr. Daisaku Tsuru va más allá del manga o el anime\, pues\, tras licenciarse de la Facultad de Ciencias de la Universidad de Nagoya\, realizó investigaciones culturales sobre rituales tradicionales y religiosos en Camerún\, obtuvo su doctorado en Ciencias en el año 2001\, convirtiéndose también\, en el año 2003\, en profesor adjunto de la Facultad de Humanidades de la Universidad de Toyama. Y\, en el año 2015\, publicó el libro “Study of Interestingness: Why Worldview Entertainment Creates Booms”\, que analiza el manga\, la animación y el cine desde su perspectiva única como dibujante de manga e investigador de antropología cultural.  \n\n\n\nSu manga más conocido\, titulado 『竜女戦記』cuya traducción al español puede ser ‘La saga de la chica del dragón’\, fue seleccionado entre los 5 mangas más relevantes en la categoría varonil del concurso 「このマンガがすごい！2021」(Kono manga ga sugoi! 2021). \n\n\n\n\n \n\n\n\nPara saber un poco más sobre el trabajo del Dr. Tsuru\, los invitamos a leer la siguiente entrevista: \n\n\n\n \n\n\n\nv2_Entrevista_Como-elaborar-un-manga-que-traza-la-vision-del-mundo-y-crear-contenido-de-entretenimientoDescarga\n\n\n\n \n\n\n\n\nLicenciado en Antropología Social por la Escuela Nacional de Antropología e Historia y Maestro en Estudios de Asia y África con especialidad en Japón por el Colegio de México. Miembro del Círculo de Estudios de Subcultura Japonesa en México (CESJM). Su línea de investigación es los fenómenos sociales surgidos alrededor del fenómeno otaku\, tanto en Latino América como en Japón\, los estudios cinematográficos y de narrativas\, historia y estudios etnolingüísticos. \n\n\n\n\n \n\n\n\n– \n\n\n\n\nConoce AQUÍ detalles sobre la charla de Ryo Sumiyoshi con Halberd Studios\n\n\n\n\n \n\n\n\n– \n\n\n\n#EntradaLibre \n\n\n\n¡Los esperamos!
URL:https://mc.jpf.go.jp/evento/conversatorio-personajes-manga-videojuegos/
LOCATION:Biblioteca Vasconcelos\, Eje 1 Nte. S/N\, Buenavista\, Cuauhtémoc\, 06350 Ciudad de México\, CDMX
CATEGORIES:Estudios sobre Japón
ATTACH;FMTTYPE=image/png:https://mc.jpf.go.jp/wp-content/uploads/2024/02/Manga-general-redes.png
END:VEVENT
BEGIN:VEVENT
DTSTART;TZID=America/Mexico_City:20240316T173000
DTEND;TZID=America/Mexico_City:20240316T190000
DTSTAMP:20260425T113251
CREATED:20240308T212551Z
LAST-MODIFIED:20240308T213510Z
UID:9489-1710610200-1710615600@mc.jpf.go.jp
SUMMARY:Entre la Cultura y la Fantasía: Diseño de personajes para videojuegos y otros medios
DESCRIPTION:¡Amantes del manga y los videojuegos! Los invitamos a la charla “Entre la cultura y la fantasía: Diseño de personajes para videojuegos y otros medios” impartida por la mangaka Sumiyoshi Ryo\, quien conversará junta a Miguel Hasson\, fundador de Halberd Studios\, y Juan Pablo Becerra\, Director de Arte en el videojuego Mariachi Legends\, desarrollado por HALBERD STUDIOS. \n\n\n\n \n\n\n\n\n\n\n\n \n\n\n\n– \n\n\n\n\nSumiyoshi Ryo trabajó como diseñador de personajes en la serie “Monster Hunter” para el gigante de los videojuegos CAPCOM. Entre sus obras más conocidas figuran “Jinba” (6 volúmenes\, publicados por East Press) y “Torso no Bokura” (volúmenes superior e inferior\, publicados por Kurofune Comics). Y\, desde febrero de 2020\, se encuentra publicando “Tekkai no Senshi” en la revista Monthly Shonen Magazine de la editorial Kodansha. \n\n\n\nPor otro lado\, se encargó también de la ambientación animal en el anime de “Golden Kamuy”. \n\n\n\n\n \n\n\n\n– \n\n\n\nAquí un ejemplo de un personaje original diseñado por Ryo Sumiyoshi basado en el dios mexica de la noche y la oscuridad\, Tezcatlipoca: \n\n\n\n \n\n\n\n\n\n\n\n \n\n\n\n– \n\n\n\n\nMiguel Hasson: \n\n\n\nNació en 1991 en Jalisco\, México. Es fundador de Halberd Studios donde ejerció como director del videojuego\, “9 Years of Shadows”\, también contribuyó a la banda sonora colaborando con renombrados artistas japoneses como Michiru Yamane de la saga de “Castlevania” y Norihiko Hibino de “Metal Gear”. \n\n\n\nDesde 2023\, lidera “Mariachi Legends” junto con Diego Mayorga\, mezclando la cultura mexicana con videojuegos retro. Paralelamente\, imparte clases en la Universidad Panamericana en la ciudad de Guadalajara. \n\n\n\n\n \n\n\n\n– \n\n\n\n\nJuan Pablo Becerra:Nació en 1981 en Jalisco\, México. Trabajó como artista ilustrador para cortometrajes financiados por IMCINE como: “De cómo los niños pueden volar”\,  Como director de arte en “Monarca”\, “El regreso del vampiro” y “Flores en la casa de los perros”. Dirigió arte en campañas publicitarias. Se desempeñó como director de arte del videojuego “9 Years of Shadows”. Desde 2023 dirige arte en el videojuego “Mariachi Legends” enalteciendo la cultura mexicana. \n\n\n\n\n \n\n\n\n\nConoce AQUÍ detalles sobre la charla entre Daisaku Tsuru y Gabriel Mandujano del CESJM
URL:https://mc.jpf.go.jp/evento/entre-la-cultura-y-la-fantasia-diseno-de-personajes-para-videojuegos-y-otros-medios/
LOCATION:Biblioteca Vasconcelos\, Eje 1 Norte S/N\, Buenavista\, Cuauhtémoc\, Ciudad de México\, 06350\, Mexico
CATEGORIES:Estudios sobre Japón
ATTACH;FMTTYPE=image/png:https://mc.jpf.go.jp/wp-content/uploads/2024/03/imagen-web.png
END:VEVENT
END:VCALENDAR