BEGIN:VCALENDAR
VERSION:2.0
PRODID:-//Fundación Japón - ECPv6.15.20//NONSGML v1.0//EN
CALSCALE:GREGORIAN
METHOD:PUBLISH
X-WR-CALNAME:Fundación Japón
X-ORIGINAL-URL:https://mc.jpf.go.jp
X-WR-CALDESC:Eventos para Fundación Japón
REFRESH-INTERVAL;VALUE=DURATION:PT1H
X-Robots-Tag:noindex
X-PUBLISHED-TTL:PT1H
BEGIN:VTIMEZONE
TZID:America/Mexico_City
BEGIN:DAYLIGHT
TZOFFSETFROM:-0600
TZOFFSETTO:-0500
TZNAME:CDT
DTSTART:20230402T080000
END:DAYLIGHT
BEGIN:STANDARD
TZOFFSETFROM:-0500
TZOFFSETTO:-0600
TZNAME:CST
DTSTART:20231029T070000
END:STANDARD
BEGIN:DAYLIGHT
TZOFFSETFROM:-0600
TZOFFSETTO:-0500
TZNAME:CDT
DTSTART:20240407T080000
END:DAYLIGHT
BEGIN:STANDARD
TZOFFSETFROM:-0500
TZOFFSETTO:-0600
TZNAME:CST
DTSTART:20241027T070000
END:STANDARD
BEGIN:DAYLIGHT
TZOFFSETFROM:-0600
TZOFFSETTO:-0500
TZNAME:CDT
DTSTART:20250406T080000
END:DAYLIGHT
BEGIN:STANDARD
TZOFFSETFROM:-0500
TZOFFSETTO:-0600
TZNAME:CST
DTSTART:20251026T070000
END:STANDARD
END:VTIMEZONE
BEGIN:VEVENT
DTSTART;TZID=America/Mexico_City:20240406T090000
DTEND;TZID=America/Mexico_City:20240407T210000
DTSTAMP:20260425T095025
CREATED:20240404T215551Z
LAST-MODIFIED:20240404T215553Z
UID:9605-1712394000-1712523600@mc.jpf.go.jp
SUMMARY:Expo Japón Monterrey 2024
DESCRIPTION:Expo Japón un evento dedicado a difundir la cultura japonesa\, lleno de: Talleres\, Shows\, Conferencias\, Conciertos\, Venta de Comida y abarrotes\, este año se llevará a cabo en CINTERMEX MONTERREY!!  \n\n\n\nLos días 06 y 07 de abril 2024 \n\n\n\n\n\n\n\nDentro del marco de este magno evento Fundación Japón presenta proyecciones de Cine Japonés. \n\n\n\nEl sábado 6 podrán disfrutar dos películas en dónde diferentes circunstancias hacen que dos personas con vidas muy diferentes se relacionen entre sí. \n\n\n\nA las 13:30 h\, se presenta “Aristócratas”\, de la directora Yukiko Sode\, que cuenta la historia de Hanako\, una chica de uno de los barrios más privilegiados de Japón\, y de Miki\, una chica de clase trabajadora\, quienes se conocen por casualidad. \n\n\n\nA las 16:45 h\, conoceremos la historia de “El ladrón de llaves”\, obra del director Kenji Uchida\, comedia en donde dos personas\, un actor desempleado y un hombre de negocios\, intercambian vidas durante una confusión que incluye perdida de memoria y negocios ilícitos. \n\n\n\nPor otro lado\, el domingo 7 se presentan dos filmes para los que quieran conocer más a fondo la historia y la cultura del Japón. \n\n\n\nA las 12:00 h\, se presenta “Sumos\, los sucesores del Samurái”\, del director Eiji Sakata\, primer documental de este deporte\, que acerca al público a la vida y dificultades de los practicantes de Sumo. \n\n\n\nA las 14:30 h\, podrán disfrutar de “Time Scoop Hunter. The Movie”\, de Hiroyuki Nakao\, en donde el periodista Yuichi Sawajima viaja en el tiempo para entrevistar a los hérores del periodo Sengoku\, mientras busca unos artefactos del futuro que pueden modificar el pasado. \n\n\n\n¡Los esperamos!  \n\n\n\n\n\n\n\nAsimimo\, tenemos preparado para ustedes talleres de idioma japonés: \n\n\n\nEl día sábado 6 de 17:30 – 19:30 h \n\n\n\nEl día domingo 7 de 12:00 – 14:00 h \n\n\n\nPara más detalles dar click en el siguiente enlace:  \n\n\n\n\nExpo Japón MTY 2024
URL:https://mc.jpf.go.jp/evento/expo-japon-monterrey-2024/
LOCATION:CINTERMEX Monterrey\, Av Fundidora 501\, Obrera\, Monterrey\, Nuevo León\, Nuevo León\, 64010\, Mexico
CATEGORIES:Arte y Cultura,Cine
ATTACH;FMTTYPE=image/png:https://mc.jpf.go.jp/wp-content/uploads/2024/04/expo-japon-2024.png
END:VEVENT
END:VCALENDAR