BEGIN:VCALENDAR
VERSION:2.0
PRODID:-//Fundación Japón - ECPv6.15.20//NONSGML v1.0//EN
CALSCALE:GREGORIAN
METHOD:PUBLISH
X-ORIGINAL-URL:https://mc.jpf.go.jp
X-WR-CALDESC:Eventos para Fundación Japón
REFRESH-INTERVAL;VALUE=DURATION:PT1H
X-Robots-Tag:noindex
X-PUBLISHED-TTL:PT1H
BEGIN:VTIMEZONE
TZID:America/Mexico_City
BEGIN:DAYLIGHT
TZOFFSETFROM:-0600
TZOFFSETTO:-0500
TZNAME:CDT
DTSTART:20230402T080000
END:DAYLIGHT
BEGIN:STANDARD
TZOFFSETFROM:-0500
TZOFFSETTO:-0600
TZNAME:CST
DTSTART:20231029T070000
END:STANDARD
BEGIN:DAYLIGHT
TZOFFSETFROM:-0600
TZOFFSETTO:-0500
TZNAME:CDT
DTSTART:20240407T080000
END:DAYLIGHT
BEGIN:STANDARD
TZOFFSETFROM:-0500
TZOFFSETTO:-0600
TZNAME:CST
DTSTART:20241027T070000
END:STANDARD
BEGIN:DAYLIGHT
TZOFFSETFROM:-0600
TZOFFSETTO:-0500
TZNAME:CDT
DTSTART:20250406T080000
END:DAYLIGHT
BEGIN:STANDARD
TZOFFSETFROM:-0500
TZOFFSETTO:-0600
TZNAME:CST
DTSTART:20251026T070000
END:STANDARD
END:VTIMEZONE
BEGIN:VEVENT
DTSTART;TZID=America/Mexico_City:20241107T080000
DTEND;TZID=America/Mexico_City:20241206T190000
DTSTAMP:20260424T203000
CREATED:20241029T173215Z
LAST-MODIFIED:20241029T173242Z
UID:10447-1730966400-1733511600@mc.jpf.go.jp
SUMMARY:Built Environment: An alternative guide to Japan - EXPOSICIÓN DE ARQUITECTURA
DESCRIPTION:Si te gusta el arte y la arquitectura japonesa\, no dejes de visitar la exposición “Entorno construido: Una guía alternativa de Japón” (Built Environment: An Alternative Guide to Japan)\, que muestra 80 estructuras arquitectónicas\, de ingeniería civil y paisajísticas existentes en cada prefectura de Japón a través de fotografías\, textos y vídeos.  \n\n\n\nVen a descubrir los diferentes espacios y soluciones constructivas que han sido ideadas para resistir los desastres naturales a los que el archipiélago se enfrenta constantemente\, así como las vistas y paisajes creados para exhibir las bellezas naturales de las diferentes regiones del Japón.  \n\n\n\nLa exposición estará en exhibición del 7 de noviembre al 6 de diciembre en la Facultad de Arquitectura de la UNAM\, abierta al público general y estudiantil. 
URL:https://mc.jpf.go.jp/evento/built-environment-an-alternative-guide-to-japan-exposicion-de-arquitectura/
LOCATION:Puebla
CATEGORIES:Arte y Cultura
END:VEVENT
BEGIN:VEVENT
DTSTART;TZID=America/Mexico_City:20241113T133000
DTEND;TZID=America/Mexico_City:20241113T150000
DTSTAMP:20260424T203000
CREATED:20241029T173827Z
LAST-MODIFIED:20241029T173844Z
UID:10453-1731504600-1731510000@mc.jpf.go.jp
SUMMARY:CONVERSATORIO - Identidad\, comunidad y trabajo. El campo y los campesinos del Japón y México.
DESCRIPTION:Si quieren descubrir las diversas experiencias y desafíos de las zonas rurales en Japón y México\, no se pueden perder el conversatorio “Identidad\, Comunidad y Trabajo. El campo y los campesinos del Japón y México”. En donde Andrés Camacho\, investigador en el ayuntamiento de Higashiyoshino en Nara y el investigador del PUEAA (Programa Universitario de Estudios sobre Asia y África\, UNAM)\, Norihisa Arai\, especialista en autogobierno indígena y economías comunitarias en México y Bolivia\, dialogarán sobre las diferencias y similitudes entre el campo y las comunidades campesinas de ambos países. \n\n\n\nLa cita es: MIÉRCOLES 13 DE NOVIEMBRE 13:30 hrs Explanada principal (“El lagartijero”) de la
URL:https://mc.jpf.go.jp/evento/conversatorio-identidad-comunidad-y-trabajo-el-campo-y-los-campesinos-del-japon-y-mexico/
LOCATION:Puebla
CATEGORIES:Estudios sobre Japón
END:VEVENT
END:VCALENDAR