BEGIN:VCALENDAR
VERSION:2.0
PRODID:-//Fundación Japón - ECPv6.15.20//NONSGML v1.0//EN
CALSCALE:GREGORIAN
METHOD:PUBLISH
X-WR-CALNAME:Fundación Japón
X-ORIGINAL-URL:https://mc.jpf.go.jp
X-WR-CALDESC:Eventos para Fundación Japón
REFRESH-INTERVAL;VALUE=DURATION:PT1H
X-Robots-Tag:noindex
X-PUBLISHED-TTL:PT1H
BEGIN:VTIMEZONE
TZID:America/Mexico_City
BEGIN:DAYLIGHT
TZOFFSETFROM:-0600
TZOFFSETTO:-0500
TZNAME:CDT
DTSTART:20240407T080000
END:DAYLIGHT
BEGIN:STANDARD
TZOFFSETFROM:-0500
TZOFFSETTO:-0600
TZNAME:CST
DTSTART:20241027T070000
END:STANDARD
BEGIN:DAYLIGHT
TZOFFSETFROM:-0600
TZOFFSETTO:-0500
TZNAME:CDT
DTSTART:20250406T080000
END:DAYLIGHT
BEGIN:STANDARD
TZOFFSETFROM:-0500
TZOFFSETTO:-0600
TZNAME:CST
DTSTART:20251026T070000
END:STANDARD
BEGIN:DAYLIGHT
TZOFFSETFROM:-0600
TZOFFSETTO:-0500
TZNAME:CDT
DTSTART:20260405T080000
END:DAYLIGHT
BEGIN:STANDARD
TZOFFSETFROM:-0500
TZOFFSETTO:-0600
TZNAME:CST
DTSTART:20261025T070000
END:STANDARD
END:VTIMEZONE
BEGIN:VEVENT
DTSTART;TZID=America/Mexico_City:20250203T150000
DTEND;TZID=America/Mexico_City:20250203T160000
DTSTAMP:20260424T145158
CREATED:20250130T180221Z
LAST-MODIFIED:20250130T180222Z
UID:10760-1738594800-1738598400@mc.jpf.go.jp
SUMMARY:Concierto de Saburo Iida en el Fan Fest de la Serie del Caribe 2025
DESCRIPTION:Amigos de Fundación Japón\, en el marco del partido México vs Japón en la Serie del Caribe 2025\, los invitamos a disfrutar de la propuesta musical del artista Saburo Iida\, que combina elementos de música contemporánea con música tradicional japonesa. Este gran músico ofrecerá un concierto que deleitará al público con un concierto antes del juego. \n\n\n\n \n\n\n\n\n\n\n\n \n\n\n\nLa cita es el lunes 3 de febrero a las 15:00 h en el Fan Fest de la Serie del Caribe\, a llevarse a cabo en el estacionamiento del estadio “El Nido de las Águilas” en Mexicali\, Baja California. \n\n\n\n¡Los esperamos!
URL:https://mc.jpf.go.jp/evento/concierto-de-saburo-iida-en-el-fan-fest-de-la-serie-del-caribe-2025/
LOCATION:Estadio El Nido de las Águilas\, Calzada Cuauhtémoc s/n\, Las Fuentes\, Mexicali\, Baja California\, 21239\, Mexico
CATEGORIES:Arte y Cultura
ATTACH;FMTTYPE=image/png:https://mc.jpf.go.jp/wp-content/uploads/2025/01/Dia-de-Japon.-Serie-del-Caribe.png
END:VEVENT
BEGIN:VEVENT
DTSTART;TZID=America/Mexico_City:20250220T170000
DTEND;TZID=America/Mexico_City:20250220T190000
DTSTAMP:20260424T145158
CREATED:20250211T002555Z
LAST-MODIFIED:20250220T213117Z
UID:10771-1740070800-1740078000@mc.jpf.go.jp
SUMMARY:2da sesión del Club de Lectura "Ecos de lo inusual: relatos de autoras japonesas contemporáneas"
DESCRIPTION:LECTORES Y LECTORAS ¡Los invitamos a participar en la segunda sesión del Club de Lectura: “Ecos de lo inusual: Relatos de autoras japonesa contemporáneas”! \n\n\n\nEn esta ocasión leeremos y platicaremos sobre la obra de Yukiko Motoya\, titulada “Mi marido es de otra especie”. Esta sesión constará de una discusión de las ideas\, opiniones y reflexiones que la obra provocó en todos los participantes. Los asistentes podrán compartir sus dudas e impresiones del libro y resolverlas con el apoyo del especialista en literatura japonesa\, el Dr. Matías Chiappe Ippolito. \n\n\n\n \n\n\n\n\n\n\n\n \n\n\n\nLa cita es el próximo JUEVES 20 DE FEBRERO DE 2025 a las 17:00 hr en la Biblioteca Vasconcelos. \n\n\n\n \n\n\n\nAquí compartimos un pequeño video informativo sobre el contexto y trasfondo de la obra\, para poder dialogar sobre los diferentes temas que aborda la obra de Yoko Ogawa en esta primera sesión: \n\n\n\n \n\n\n\n\n\n\n\n\n\n \n\n\n\n¡Los esperamos!
URL:https://mc.jpf.go.jp/evento/2da-sesion-del-club-de-lectura-ecos-de-lo-inusual-relatos-de-autoras-japonesas-contemporaneas/
LOCATION:Biblioteca Vasconcelos\, Eje 1 Nte. S/N\, Buenavista\, Cuauhtémoc\, 06350 Ciudad de México\, CDMX
CATEGORIES:Estudios sobre Japón
ATTACH;FMTTYPE=image/png:https://mc.jpf.go.jp/wp-content/uploads/2025/01/club-de-lectura-ecos.png
END:VEVENT
BEGIN:VEVENT
DTSTART;TZID=America/Mexico_City:20250227T170000
DTEND;TZID=America/Mexico_City:20250227T183000
DTSTAMP:20260424T145158
CREATED:20250220T194148Z
LAST-MODIFIED:20250221T222118Z
UID:10792-1740675600-1740681000@mc.jpf.go.jp
SUMMARY:"Japón en español" Conversatorio entre Miri Yu y Tana Oshima
DESCRIPTION:En el marco de la Feria Internacional del Libro del Palacio de Minería\, los invitamos al Conversatorio “Japón en español”\, en donde la escritora zainichi (de origen coreano asentada en Japón)\, Miri Yu dialogará con Tana Oshima\, quien fue la encargada de traducir su novela “Tokio\, estación de Ueno”\, al español. \n\n\n\n \n\n\n\n\n\n\n\nAcompáñenos a explorar las dificultades y recompensas que conlleva la creación de obras literarias y del proceso de su traducción\, de la mano de estas dos grandes autoras. \n\n\n\nLa cita es el próximo JUEVES 27 DE FEBRERO a las 17:00 hrs en el Palacio de Minería en la Ciudad de México.
URL:https://mc.jpf.go.jp/evento/japon-en-espanol-conversatorio-entre-miri-yu-y-tana-oshima/
LOCATION:Palacio de Minería\, Calle Tacuba 5\, Centro Histórico\, Cuauhtémoc\, Mexico City\, Mexico City\, 06000\, Mexico
CATEGORIES:Arte y Cultura
ATTACH;FMTTYPE=image/png:https://mc.jpf.go.jp/wp-content/uploads/2025/02/Yu-Miri-Tana-Oshima_Palacio-de-Mineria.png
END:VEVENT
END:VCALENDAR