BEGIN:VCALENDAR
VERSION:2.0
PRODID:-//Fundación Japón - ECPv6.15.20//NONSGML v1.0//EN
CALSCALE:GREGORIAN
METHOD:PUBLISH
X-ORIGINAL-URL:https://mc.jpf.go.jp
X-WR-CALDESC:Eventos para Fundación Japón
REFRESH-INTERVAL;VALUE=DURATION:PT1H
X-Robots-Tag:noindex
X-PUBLISHED-TTL:PT1H
BEGIN:VTIMEZONE
TZID:America/Mexico_City
BEGIN:DAYLIGHT
TZOFFSETFROM:-0600
TZOFFSETTO:-0500
TZNAME:CDT
DTSTART:20240407T080000
END:DAYLIGHT
BEGIN:STANDARD
TZOFFSETFROM:-0500
TZOFFSETTO:-0600
TZNAME:CST
DTSTART:20241027T070000
END:STANDARD
BEGIN:DAYLIGHT
TZOFFSETFROM:-0600
TZOFFSETTO:-0500
TZNAME:CDT
DTSTART:20250406T080000
END:DAYLIGHT
BEGIN:STANDARD
TZOFFSETFROM:-0500
TZOFFSETTO:-0600
TZNAME:CST
DTSTART:20251026T070000
END:STANDARD
BEGIN:DAYLIGHT
TZOFFSETFROM:-0600
TZOFFSETTO:-0500
TZNAME:CDT
DTSTART:20260405T080000
END:DAYLIGHT
BEGIN:STANDARD
TZOFFSETFROM:-0500
TZOFFSETTO:-0600
TZNAME:CST
DTSTART:20261025T070000
END:STANDARD
END:VTIMEZONE
BEGIN:VEVENT
DTSTART;TZID=America/Mexico_City:20250301T160000
DTEND;TZID=America/Mexico_City:20250301T173000
DTSTAMP:20260424T130512
CREATED:20250221T221947Z
LAST-MODIFIED:20250221T221948Z
UID:10814-1740844800-1740850200@mc.jpf.go.jp
SUMMARY:Japón en México. Encuentros entre arte y literatura con Miri Yū y Tana Oshima
DESCRIPTION:Fundación Japón en México\, el Museo Kaluz y el Colegio de México\,  los invitamos al Conversatorio “Japón en México: Encuentros entre arte y literatura”. \n\n\n\nEn donde la escritora Miri Yu y la traductora literaria y artista visual Tana Oshima\, charlarán sobre las diferentes maneras en que el arte permea diferentes aspectos de su vida y obra\, tomando como punto de partida una selección de obras de la colección del Museo Kaluz. \n\n\n\n \n\n\n\n\n\n\n\n \n\n\n\n\n\n\n\n \n\n\n\nVengan a descubrir nuevas perspectivas del quehacer pictórico y escrito en este diálogo entre el arte mexicano y japonés. \n\n\n\nLa cita es el próximo SÁBADO 1 DE MARZO a las 16:00 hrs\, en el Museo Kaluz \n\n\n\n¡Los esperamos!
URL:https://mc.jpf.go.jp/evento/japon-en-mexico-encuentros-entre-arte-y-literatura-con-miri-yu-y-tana-oshima/
LOCATION:Museo Kaluz\, Avenida Hidalgo 85\, Ciudad de México\, Ciudad de México\, 06300\, Mexico
CATEGORIES:Arte y Cultura
ATTACH;FMTTYPE=image/png:https://mc.jpf.go.jp/wp-content/uploads/2025/02/kaluz_12.png
END:VEVENT
BEGIN:VEVENT
DTSTART;TZID=America/Mexico_City:20250314T140000
DTEND;TZID=America/Mexico_City:20250314T160000
DTSTAMP:20260424T130512
CREATED:20250303T193858Z
LAST-MODIFIED:20250303T205058Z
UID:10872-1741960800-1741968000@mc.jpf.go.jp
SUMMARY:Presentaciones de "Kamishibai" en la FILCO
DESCRIPTION:En el marco de la FILCO Coyoacán\, los invitamos a las presentaciones de “Kamishibai” (紙芝居) o teatro de papel japonés. \n\n\n\n \n\n\n\n\n\n\n\n \n\n\n\nAcompáñenos a descubrir las maravillas de esta peculiar forma de narrar cuentos a la japonesa con la Mtra. Sakiko Yokoo del Centro Cultural Eko. La cita es el VIERNES 14 DE MARZO a las 14:00 hrs\, en el Jardín Hidalgo Coyoacán\, Foro Haruki Murakami de la Feria Internacional del Libro de Coyoacán. \n\n\n\n¡Los esperamos!  \n\n\n\n \n\n\n\n\nSakiko Yokoo \n\n\n\nCoreógrafa\, bailarina\, narradora\, promotora cultural y en proceso de ordenarse sacerdote budista. Obtuvo el título de Maestría en Arte en la Universidad de Ochanomizu\, Tokio\, Japón. Llega a México en 2003 como voluntaria de la Agencia de Cooperación Internacional del gobierno japonés para trabajar como docente de la expresión corporal para la educación inclusiva en Hidalgo. En el 2010 funda la A.C. México-Japón Caminando Juntos.   De pronto el arte se volvió como el agua que\, en su simpleza\, en su cualidad tan elemental tenía el poder de purificación y así entonces también la vida apareció como una oportunidad para la liberación.
URL:https://mc.jpf.go.jp/evento/presentaciones-de-kamishibai-en-la-filco/
LOCATION:Jardín Hidalgo Coyoacán\, Coyoacán Centro s/n\, Ciudad de México\, Ciudad de México\, 04000\, Mexico
CATEGORIES:Arte y Cultura
ATTACH;FMTTYPE=image/jpeg:https://mc.jpf.go.jp/wp-content/uploads/2025/03/kamishiabi-El-abrazo.jpg
ORGANIZER;CN="Feria Internacional del Libro de Coyoac%C3%A1n":MAILTO:direccion@filco.com.mx
END:VEVENT
BEGIN:VEVENT
DTSTART;TZID=America/Mexico_City:20250314T160000
DTEND;TZID=America/Mexico_City:20250314T170000
DTSTAMP:20260424T130512
CREATED:20250303T212124Z
LAST-MODIFIED:20250303T212125Z
UID:10883-1741968000-1741971600@mc.jpf.go.jp
SUMMARY:Conferencias sobre literatura japonesa femenina en la FILCO
DESCRIPTION:En el marco de la FILCO Coyoacán los invitamos a las conferencias sobre literatura japonesa femenina\, que ofrecerán dos grandes especialistas en el tema\, el próximo JUEVES 14 DE MARZO a las 16:00 h y 16:30 h en el Jardín Hidalgo Coyoacán\, Foro Haruki Murkami de la Feria Internacional del Libro de Coyoacán. \n\n\n\nEn la charla “Más de 1\,000 años de literatura japonesa escrita por mujeres”\, la Mtra. Alejandra Tapia nos hablará de las diversas autoras cuyas obras han ido conformando la cultura literaria del Japón. \n\n\n\n \n\n\n\n\n\n\n\n \n\n\n\nPor otro lado\, en la charla “Shojo manga: despertares al mundo y miradas femeninas en la narrativa gráfica japonesa”\, la Mtra. Laura Quiroz nos explicará el impacto del Shojo manga. “Shojo”\, hace referencia a la demografía o público al que los mangas están dirigidos\, en este caso serían los mangas hechos para mujeres jóvenes. \n\n\n\n \n\n\n\n\n\n\n\n \n\n\n\n¡Nos vemos en Coyoacán! \n\n\n\n \n\n\n\n\nAlejandra Tapia es editora en el Centro de Investigaciones y Estudios de Género de la UNAM. Es licenciada en Letras Modernas Inglesas por la UNAM y maestra en Estudios de Asia y África\, con especialidad en Japón\, por El Colegio de México. Ha sido conferencista para la Embajada del Japón en México\, la Fundación Japón México\, el Seminario Permanente Japón y los Imaginarios Transculturales de la Escuela Nacional de Antropología e Historia\, El Rule Comunidad de Saberes y Satori Perú. Como integrante del comité asesor del Programa Universitario de Estudios de Asia y África de la UNAM ha coordinado\, junto con la maestra Vania de la Vega Shiota\, el Círculo de Lectura sobre Género en Asia y África\, el Seminario Internacional de Literatura Japonesa y Género (2020) y el Diplomado Literatura\, Feminismos y Géneros en Asia y África Contemporáneas (2024-2025). Actualmente\, es coordinadora académica de la Cátedra Extraordinaria Fátima Mernissi de la UNAM (2023-2025). \n\n\n\n\n \n\n\n\n\nLaura Ivonne Quiroz Castillo  es Licenciada en Etnología por la Escuela Nacional de Antropología e Historia (ENAH) y Maestra en Comunicación y Política por la Universidad Autónoma Metropolitana\, Unidad Xochimilco (UAM-X). Se ha desempeñado como investigadora asistente en el Centro de Estudios sobre la Diversidad Cultural del Museo Nacional de las Culturas\, y en la Coordinación Nacional de Antropología (INAH); y\, actualmente como investigadora en el Laboratorio Digital Tlatelolco LAB\, perteneciente al Programa Universitario de Estudios sobre Democracia\, Justicia y Sociedad de la UNAM. Desde 2011 es miembro fundador y coordinadora del Círculo de Estudios sobre Subcultura Japonesa en México\, así como co-responsable del seminario permanente “Japón y los imaginarios transculturales” del Posgrado en Antropología Social de la ENAH.
URL:https://mc.jpf.go.jp/evento/conferencias-sobre-literatura-japonesa-femenina-en-la-filco/
LOCATION:Jardín Hidalgo Coyoacán\, Coyoacán Centro s/n\, Ciudad de México\, Ciudad de México\, 04000\, Mexico
CATEGORIES:Arte y Cultura
ATTACH;FMTTYPE=image/png:https://mc.jpf.go.jp/wp-content/uploads/2025/03/conferencia-filco.png
ORGANIZER;CN="Feria Internacional del Libro de Coyoac%C3%A1n":MAILTO:direccion@filco.com.mx
END:VEVENT
BEGIN:VEVENT
DTSTART;TZID=America/Mexico_City:20250315T160000
DTEND;TZID=America/Mexico_City:20250315T180000
DTSTAMP:20260424T130512
CREATED:20250303T220729Z
LAST-MODIFIED:20250303T221314Z
UID:10891-1742054400-1742061600@mc.jpf.go.jp
SUMMARY:Proyección de cine japonés en la FILCO
DESCRIPTION:En el marco de la FILCO Coyoacán\, los invitamos a la proyección de la película “El ladrón de llaves” (Key of life\, Kenji Uchida\, 2012)\, una comedia que cuenta como un actor desempleado y un asesino a sueldo intercambian vidas por circunstancias inesperadas\, con resultados delirantes. \n\n\n\n \n\n\n\n\n\n\n\n \n\n\n\nAcompáñenos el próximo SÁBADO 15 DE MARZO a las 16:00 hrs en el Foro Cultural Coyoacanense Hugo Argüelles. \n\n\n\n¡Los esperamos!
URL:https://mc.jpf.go.jp/evento/proyeccion-de-cine-japones-en-la-filco/
LOCATION:Foro Cultural Coyoacanense Hugo Argüelles\, Ignacio Allende 36\, Colonia del Carmen\, Coyoacán\, Ciudad de México\, Ciudad de México\, 04100\, Mexico
CATEGORIES:Arte y Cultura,Cine
ATTACH;FMTTYPE=image/png:https://mc.jpf.go.jp/wp-content/uploads/2025/03/Key-of-Life.png
ORGANIZER;CN="Feria Internacional del Libro de Coyoac%C3%A1n":MAILTO:direccion@filco.com.mx
END:VEVENT
END:VCALENDAR