BEGIN:VCALENDAR
VERSION:2.0
PRODID:-//Fundación Japón - ECPv6.15.20//NONSGML v1.0//EN
CALSCALE:GREGORIAN
METHOD:PUBLISH
X-WR-CALNAME:Fundación Japón
X-ORIGINAL-URL:https://mc.jpf.go.jp
X-WR-CALDESC:Eventos para Fundación Japón
REFRESH-INTERVAL;VALUE=DURATION:PT1H
X-Robots-Tag:noindex
X-PUBLISHED-TTL:PT1H
BEGIN:VTIMEZONE
TZID:America/Mexico_City
BEGIN:DAYLIGHT
TZOFFSETFROM:-0600
TZOFFSETTO:-0500
TZNAME:CDT
DTSTART:20240407T080000
END:DAYLIGHT
BEGIN:STANDARD
TZOFFSETFROM:-0500
TZOFFSETTO:-0600
TZNAME:CST
DTSTART:20241027T070000
END:STANDARD
BEGIN:DAYLIGHT
TZOFFSETFROM:-0600
TZOFFSETTO:-0500
TZNAME:CDT
DTSTART:20250406T080000
END:DAYLIGHT
BEGIN:STANDARD
TZOFFSETFROM:-0500
TZOFFSETTO:-0600
TZNAME:CST
DTSTART:20251026T070000
END:STANDARD
BEGIN:DAYLIGHT
TZOFFSETFROM:-0600
TZOFFSETTO:-0500
TZNAME:CDT
DTSTART:20260405T080000
END:DAYLIGHT
BEGIN:STANDARD
TZOFFSETFROM:-0500
TZOFFSETTO:-0600
TZNAME:CST
DTSTART:20261025T070000
END:STANDARD
END:VTIMEZONE
BEGIN:VEVENT
DTSTART;TZID=America/Mexico_City:20250503T170000
DTEND;TZID=America/Mexico_City:20250524T170000
DTSTAMP:20260424T100000
CREATED:20250424T214803Z
LAST-MODIFIED:20250424T214804Z
UID:10969-1746291600-1748106000@mc.jpf.go.jp
SUMMARY:Ciclo de Cine Japonés Contemporáneo en el Museo Amparo
DESCRIPTION:Amigos de Puebla\, Fundación Japón en México 国際交流基金メキシコ日本文化センター y el Museo Amparo los invitamos a disfrutar del “Ciclo de cine japonés contemporáneo“\, los sábados del 3 al 24 de mayo a las 17:00 h. \n\n\n\n \n\n\n\n\n\n\n\n \n\n\n\n\nEl 3 de mayo abrimos el ciclo con la comedia “El ladrón de llaves” (Kenji Uchida\, 2012)\, en donde un asesino a sueldo y un actor desempleado cambian de vida con resultados inesperados.\n\n\n\n\n\nEl 10 de mayo presentamos “De regreso al swing” (Shioya Toshi\, 2010)\, que muestra como el amor a la música puede unir a diferentes generaciones.\n\n\n\n\n\nEl 17 de mayo se proyecta la película “Aristócratas” (Yukiko Sode\, 2021) que cuenta la historia de dos mujeres de diferentes clases sociales navegando las expectativas sociales en el Japón contemporáneo.\n\n\n\n\n\nFinalmente\, el 24 de mayo se presenta el film “Flores de verano” (Ryutaro Nakagawa\, 2017)\, una hermosa historia de amor\, pérdida y duelo.\n\n\n\n\n¡Los esperamos!
URL:https://mc.jpf.go.jp/evento/ciclo-de-cine-japones-contemporaneo-en-el-museo-amparo/
LOCATION:Museo Amparo\, C. 2 Sur 708\, Centro\, Puebla de Zaragoza\, Puebla\, 72000\, Mexico
CATEGORIES:Arte y Cultura,Cine
ATTACH;FMTTYPE=image/png:https://mc.jpf.go.jp/wp-content/uploads/2025/04/cine-amparo.png
END:VEVENT
BEGIN:VEVENT
DTSTART;TZID=America/Mexico_City:20250516T180000
DTEND;TZID=America/Mexico_City:20250516T193000
DTSTAMP:20260424T100000
CREATED:20250509T205040Z
LAST-MODIFIED:20250509T205043Z
UID:10984-1747418400-1747423800@mc.jpf.go.jp
SUMMARY:Taller de Onigiris
DESCRIPTION:Una parte importante del tema “Las maravillas locales de Japón en el cine”\, que exploran las seis nuevas películas disponibles en la plataforma “JFF Theater“\, es mostrar los productos del Japón que conllevan un conocimiento y tradición milenarios\, como lo muestran los documentales “A Handful of Salt” (Un puñado de sal) y “The geneaolgy of sake” (La genealogía del sake). \n\n\n\n \n\n\n\n\n\n\n\n \n\n\n\nPor lo que\, para acercarlos más a los productos tradicionales del Japón\, los invitamos a participar en el “Taller de Onigiris”\, en donde nuestros amigos de la Asociación México Japonesa\, A. C. nos enseñaran a manejar dos de los productos básicos de la gastronomía japonesa\, el arroz y la sal (entre otros ingredientes)\, para hacer uno de los bocadillos japoneses más representativos: los onigiris. \n\n\n\n \n\n\n\n\n\n\n\n \n\n\n\n¡Los esperamos este VIERNES 16 DE MAYO a las 18:00 hrs\, en la Casa Rafael Galván UAM! \n\n\n\nY recuerden que para descubrir las diferentes regiones de Japón a través de su cine\, sólo deben registrarse con un correo electrónico a la plataforma “JFF Theater”: https://en.jff.jpf.go.jp/
URL:https://mc.jpf.go.jp/evento/taller-de-onigiris/
LOCATION:Casa Rafael Galván UAM\, Zacatecas 94\, Roma Norte\, Cuauhtémoc\, Ciudad de México\, Ciudad de México\, 06700\, Mexico
CATEGORIES:Arte y Cultura,Cine
ATTACH;FMTTYPE=image/png:https://mc.jpf.go.jp/wp-content/uploads/2025/05/onigiris.png
END:VEVENT
END:VCALENDAR