BEGIN:VCALENDAR
VERSION:2.0
PRODID:-//Fundación Japón - ECPv6.15.20//NONSGML v1.0//EN
CALSCALE:GREGORIAN
METHOD:PUBLISH
X-ORIGINAL-URL:https://mc.jpf.go.jp
X-WR-CALDESC:Eventos para Fundación Japón
REFRESH-INTERVAL;VALUE=DURATION:PT1H
X-Robots-Tag:noindex
X-PUBLISHED-TTL:PT1H
BEGIN:VTIMEZONE
TZID:America/Mexico_City
BEGIN:DAYLIGHT
TZOFFSETFROM:-0600
TZOFFSETTO:-0500
TZNAME:CDT
DTSTART:20240407T080000
END:DAYLIGHT
BEGIN:STANDARD
TZOFFSETFROM:-0500
TZOFFSETTO:-0600
TZNAME:CST
DTSTART:20241027T070000
END:STANDARD
BEGIN:DAYLIGHT
TZOFFSETFROM:-0600
TZOFFSETTO:-0500
TZNAME:CDT
DTSTART:20250406T080000
END:DAYLIGHT
BEGIN:STANDARD
TZOFFSETFROM:-0500
TZOFFSETTO:-0600
TZNAME:CST
DTSTART:20251026T070000
END:STANDARD
BEGIN:DAYLIGHT
TZOFFSETFROM:-0600
TZOFFSETTO:-0500
TZNAME:CDT
DTSTART:20260405T080000
END:DAYLIGHT
BEGIN:STANDARD
TZOFFSETFROM:-0500
TZOFFSETTO:-0600
TZNAME:CST
DTSTART:20261025T070000
END:STANDARD
END:VTIMEZONE
BEGIN:VEVENT
DTSTART;TZID=America/Mexico_City:20250704T180000
DTEND;TZID=America/Mexico_City:20250704T210000
DTSTAMP:20260424T060802
CREATED:20250702T002253Z
LAST-MODIFIED:20250702T183644Z
UID:11048-1751652000-1751662800@mc.jpf.go.jp
SUMMARY:Cine sesiones "JFF Theater" (Three sisters)
DESCRIPTION:Continuamos el ciclo de “Cine Sesiones de la Cineteca Nacional de las Artes” con la proyección de la película “Three Sisters” (Kiyoshi Sasabe\, 2013)\, filme que cuenta la historia de tres hermanas que lidian con sus desencuentros amorosos\, al mismo tiempo que intentan reavivar el negocio familiar de dulces tradicionales japoneses en la prefectura de Kagoshima. \n\n\n\n \n\n\n\n\n\n\n\n \n\n\n\nLa cita es \n\n\n\nVIERNES 4 DE JULIO \n\n\n\n18:00 hrs \n\n\n\nCineteca Nacional de las Artes (Av. Río Churubusco 79\, Country Club Churubusco\, Coyoacán\, Ciudad de México). \n\n\n\n*Al finalizar la función podremos platicar sobre nuestras impresiones de la película con el especialista Gabriel Rodríguez. \n\n\n\n \n\n\n\n\nGabriel Rodríguez Álvarez (1974) es Doctor en Historia del arte/Estudios sobre cine por la Facultad de Filosofía y Letras UNAM. Desde 2010 es profesor de Sociología del cine en la FCPyS- UNAM. Ha realizado diversas publicaciones sobre cine\, cine mexicano y cineclubismo\, entre otras\, e impartido talleres y cursos de formación de públicos y promotores culturales para entidades e instituciones públicas como Cineteca Nacional\, Filmoteca de la UNAM\, PROCINECDMX\, Secretaría de Cultura de la Ciudad de México\, IMCINE\, Cultura UNAM y la SEP. Desde los años 90 ha estado activo como curador\, moderador\, historiador y coordinador del movimiento cineclubista internacional. Conduce el programa “Cinema 14 En grande” del Canal 14 y las Cine sesiones de la Cineteca Nacional de las Artes\, en la Ciudad de México \n\n\n\n\n \n\n\n\n \n\n\n\nAdquiere tus cortesías 15 minutos antes de las funciones.  \n\n\n\n#EntradaLibre #CupoLimitado
URL:https://mc.jpf.go.jp/evento/cine-sesiones-jff-theater/
LOCATION:Cineteca Nacional de las Artes\, Av. Río Churubusco 79\, Country Club Churubusco\, Coyoacán\, Ciudad de México\, Ciudad de México\, 04220\, Mexico
CATEGORIES:Arte y Cultura,Cine
ATTACH;FMTTYPE=image/png:https://mc.jpf.go.jp/wp-content/uploads/2025/07/cine-sesion-4.png
END:VEVENT
BEGIN:VEVENT
DTSTART;TZID=America/Mexico_City:20250704T190000
DTEND;TZID=America/Mexico_City:20250704T200000
DTSTAMP:20260424T060802
CREATED:20250702T180355Z
LAST-MODIFIED:20250702T180357Z
UID:11056-1751655600-1751659200@mc.jpf.go.jp
SUMMARY:Inauguración de la Exposición "Imágenes y materia fotográfica: Impresiones Japonesas de la década de 1970" en el Centro Cultural San Pablo\, Oaxaca
DESCRIPTION:Amigos de Oaxaca\, los invitamos a descubrir el grabado contemporáneo japonés en la exposición “Imágenes y materia fotográfica: impresiones japonesas de la década de 1970” que organizamos en colaboración con el Centro Cultural San Pablo. \n\n\n\nLa inauguración de la exhibición es este VIERNES 4 DE JULIO a las 19:00hrs en el Centro Cultural San Pablo (Miguel Hidalgo 907\, Centro\, Oaxaca de Juárez). \n\n\n\n \n\n\n\n\n\n\n\n \n\n\n\nLa exhibición está compuesta por 52 grabados de 14 artistas japoneses\, quienes se atrevieron a experimentar con las nuevas tecnologías y herramientas disponibles en su época\, tomando la fotografía y la materialidad como los núcleos de su expresión gráfica. \n\n\n\n¡Los esperamos! \n\n\n\n#artejaponés #grabadojaponés #exposición #exposicióndearte
URL:https://mc.jpf.go.jp/evento/inauguracion-de-la-exposicion-imagenes-y-materia-fotografica-impresiones-japonesas-de-la-decada-de-1970-en-el-centro-cultural-san-pablo-oaxaca/
LOCATION:Centro Cultural San Pablo\, Miguel Hidalgo 907\, Centro\, Oaxaca de Juárez\, Oaxaca\, 68000\, Mexico
CATEGORIES:Arte y Cultura
ATTACH;FMTTYPE=image/png:https://mc.jpf.go.jp/wp-content/uploads/2025/07/expo-oaxaca.png
END:VEVENT
BEGIN:VEVENT
DTSTART;TZID=America/Mexico_City:20250708T080000
DTEND;TZID=America/Mexico_City:20250708T170000
DTSTAMP:20260424T060802
CREATED:20250708T233112Z
LAST-MODIFIED:20250708T233114Z
UID:11117-1751961600-1751994000@mc.jpf.go.jp
SUMMARY:Cine sesiones "JFF Theater" (The Genealogy of Sake) + Conferencia y degustación
DESCRIPTION:Continuamos el ciclo de “Cine Sesiones de la Cineteca Nacional de las Artes” con una experiencia inmersiva\, ya que después de la proyección del documental “The Genealogy of Sake” (Kaori Ishii\, 2015)\, tendremos la oportunidad de conocer más sobre este producto con la conferencia impartida por Francisco González Romero\, director para Latinoamérica de la Sake Sommelier Association. Asimismo\, después de la charla\, tendremos una pequeña degustación de sake. \n\n\n\n \n\n\n\n\n\n\n\n \n\n\n\nLos invitamos a descubrir sobre la producción tradicional del sake en la península de Noto y a probar el delicioso sake de la prefectura de Ishikawa. \n\n\n\nLa cita es: \n\n\n\nVIERNES 18 DE JULIO \n\n\n\n18:00 hrs \n\n\n\nCineteca Nacional de las Artes (Av. Río Churubusco 79\, Country Club Churubusco\, Coyoacán\, Ciudad de México). \n\n\n\nAdquiere tus cortesías 15 minutos antes de las funciones.  \n\n\n\n \n\n\n\n\nPaco González Romero es sommelier especializado en cerveza\, sake y vino\, con más de una década de experiencia en la evaluación sensorial\, la educación y la comunicación de bebidas tradicionales y contemporáneas. Actualmente es Director para Latinoamérica de la Sake Sommelier Association\, desde donde promueve activamente la cultura del sake en la región\, imparte certificaciones internacionales y colabora con restaurantes y centros de consumo para fortalecer la oferta y el conocimiento sobre esta bebida japonesa ancestral. \n\n\n\nAdemás\, es Coordinador Académico de la Academia Nacional de Sommeliers y Gastrónomos\, donde diseña e imparte diplomados sobre cerveza\, vino\, sake\, destilados y análisis sensorial. Ha sido jurado en más de 100 competencias internacionales de cerveza en países como México\, Japón\, Brasil\, Sudáfrica\, Italia y Colombia\, y es reconocido por su labor como embajador de las bebidas fermentadas.
URL:https://mc.jpf.go.jp/evento/cine-sesiones-jff-theater-the-genealogy-of-sake-conferencia-y-degustacion/
LOCATION:Cineteca Nacional de las Artes\, Av. Río Churubusco 79\, Country Club Churubusco\, Coyoacán\, Ciudad de México\, Ciudad de México\, 04220\, Mexico
CATEGORIES:Arte y Cultura,Cine
ATTACH;FMTTYPE=image/png:https://mc.jpf.go.jp/wp-content/uploads/2025/07/cine-sake.png
END:VEVENT
BEGIN:VEVENT
DTSTART;TZID=America/Mexico_City:20250711T180000
DTEND;TZID=America/Mexico_City:20250711T210000
DTSTAMP:20260424T060802
CREATED:20250702T183436Z
LAST-MODIFIED:20250703T221100Z
UID:11062-1752256800-1752267600@mc.jpf.go.jp
SUMMARY:Cine sesiones "JFF Theater" (A Handful of Salt) + Entrevista a la directora Kaori Ishii
DESCRIPTION:Continuamos el ciclo de “Cine Sesiones de la Cineteca Nacional de las Artes” con una invitada muy especial\, la DIRECTORA KAORI ISHII\, quien nos acompañará en línea después de la proyección de su documental “A Handful of Salt” (Kaori Ishii\, 2011)*. \n\n\n\n \n\n\n\n\n\n\n\n \n\n\n\nLos invitamos a descubrir sobre la producción tradicional de la sal en la península de Noto en la prefectura de Ishikawa y sobre los retos de hacer cine documental en Japón. La entrevista y discusión serán moderados por Gabriel Rodríguez. \n\n\n\n*LA ENTREVISTA CON LA DIRECTORA SE TRANSMITIRÁ EN LÍNEA POR FACEBOOK LIVE DE LA FUNDACIÓN JAPÓN EN MÉXICO \n\n\n\n \n\n\n\n \n\n\n\n\nKaori Ishii (Directora y productora) \n\n\n\nNacida en 1978. Licenciada por la Universidad del Sagrado Corazón\, Departamento de Literatura\, Facultad de Filosofía. Trabajó en el Ministerio de Educación\, Cultura\, Ciencia\, Deporte y Tecnología\, mientras estudiaba en la Escuela de Cine de Tokio. \n\n\n\nSu primer cortometraje documental\, «Sorry Grandma»\, ganó el primer premio en el Festival de Cine Documental Humano Abeno de Osaka 2005. Su segundo documental\, «Chain of Life-The Artistry of Mokuhanzome Kimono-»\, mostraba la técnica de teñido más antigua de Japón. También dirigió algunos dramas televisivos y webdramas. Tras lo cual terminó el documental\, «A Handful of Salt»\, que ganó el premio a la mejor fotografía en el Festival Internacional de Documentales de Cebú de 2013. \n\n\n\nSu último proyecto se titula «La genealogía del sake» y trata sobre los fabricantes de sake de la península de Noto. \n\n\n\n\n \n\n\n\n \n\n\n\n\nGabriel Rodríguez Álvarez (1974) es Doctor en Historia del arte/Estudios sobre cine por la Facultad de Filosofía y Letras UNAM. Desde 2010 es profesor de Sociología del cine en la FCPyS- UNAM. Ha realizado diversas publicaciones sobre cine\, cine mexicano y cineclubismo\, entre otras\, e impartido talleres y cursos de formación de públicos y promotores culturales para entidades e instituciones públicas como Cineteca Nacional\, Filmoteca de la UNAM\, PROCINECDMX\, Secretaría de Cultura de la Ciudad de México\, IMCINE\, Cultura UNAM y la SEP. Desde los años 90 ha estado activo como curador\, moderador\, historiador y coordinador del movimiento cineclubista internacional. Conduce el programa “Cinema 14 En grande” del Canal 14 y las Cine sesiones de la Cineteca Nacional de las Artes\, en la Ciudad de México. \n\n\n\n\n \n\n\n\nLa cita es: \n\n\n\nVIERNES 11 DE JULIO \n\n\n\n18:00 hrs \n\n\n\nCineteca Nacional de las Artes (Av. Río Churubusco 79\, Country Club Churubusco\, Coyoacán\, Ciudad de México). \n\n\n\nAdquiere tus cortesías 15 minutos antes de las funciones.
URL:https://mc.jpf.go.jp/evento/cine-sesiones-jff-theater-a-handful-of-salt-entrevista-a-la-directora-kaori-ishii/
LOCATION:Cineteca Nacional de las Artes\, Av. Río Churubusco 79\, Country Club Churubusco\, Coyoacán\, Ciudad de México\, Ciudad de México\, 04220\, Mexico
CATEGORIES:Arte y Cultura,Cine
ATTACH;FMTTYPE=image/png:https://mc.jpf.go.jp/wp-content/uploads/2025/07/talkevent03_1en.png
END:VEVENT
BEGIN:VEVENT
DTSTART;TZID=America/Mexico_City:20250712T140000
DTEND;TZID=America/Mexico_City:20250712T183000
DTSTAMP:20260424T060802
CREATED:20250702T191256Z
LAST-MODIFIED:20250702T191257Z
UID:11067-1752328800-1752345000@mc.jpf.go.jp
SUMMARY:Ciclo de Cine Japonés en Acapulco
DESCRIPTION:✨📽Amigos de Acapulco\, no se pueden perder el “Ciclo de Cine Japonés en Acapulco” el próximo SÁBADO 12 DE JULIO en el Museo Histórico de Acapulco “Fuerte de San Diego”. \n\n\n\n \n\n\n\n\n\n\n\n \n\n\n\n📍Proyectaremos 2 películas: \n\n\n\n– A las 14:00 hrs \n\n\n\n🍚”Takano Tofu” (Mihara Mitsuhiro\, 2023)\, que cuenta la historia de Tatsuo\, que se dedica a la producción de tofu en un pequeño poblado\, y su preocupación por el futuro de su hija quien ha regresado a casa después de divorciarse. \n\n\n\n– A las 16:30 hrs \n\n\n\n👨‍🎨”The Lines that Define Me” (Nori Koizumi\, 2022)\, una historia de pérdida y renacimiento vivida por un joven en luto\, impactado por el mundo de la pintura con tinta Sumi-e\, conocida por representar el mundo natural y la vida misma a través de tonos de blanco y negro. \n\n\n\n¡Los esperamos!🙌
URL:https://mc.jpf.go.jp/evento/ciclo-de-cine-japones-en-acapulco/
LOCATION:Museo Histórico de Acapulco “Fuerte de San Diego”\, Hornitos s/n\, Centro\, Acapulco\, Guerrero\, 39300\, Mexico
CATEGORIES:Arte y Cultura,Cine
ATTACH;FMTTYPE=image/png:https://mc.jpf.go.jp/wp-content/uploads/2025/07/cine-acapulco.png
END:VEVENT
BEGIN:VEVENT
DTSTART;TZID=America/Mexico_City:20250715T193000
DTEND;TZID=America/Mexico_City:20250727T203000
DTSTAMP:20260424T060802
CREATED:20250708T223728Z
LAST-MODIFIED:20250708T223914Z
UID:11112-1752607800-1753648200@mc.jpf.go.jp
SUMMARY:"Maestros del Cine de Terror Japonés" en la Cineteca Nacional
DESCRIPTION:Sumérgete en las sombras del horror con el ciclo “Maestros del cine de terror japonés”\, donde las leyendas urbanas y los espíritus ancestrales cobrarán vida en la pantalla. Prepárate para escalofríos\, misterio y el horror más elegante de Japón. ¡No te lo pierdas!  \n\n\n\n \n\n\n\n\n\n\n\n \n\n\n\nDEL 15 AL 27 DE JULIO podrás disfrutar de 12 películas de grandes directores de cine de terror japonés en la Cineteca Nacional (Av. México Coyoacán 389\, Xoco\, Benito Juárez\, Ciudad de México) \n\n\n\n¡Los esperamos!
URL:https://mc.jpf.go.jp/evento/maestros-del-cine-de-terror-japones-en-la-cineteca-nacional/
LOCATION:Cineteca Nacional\, Av. México-Coyoacán\, No. 389\, Col. Xoco\, Mexico City\, Mexico City\, 03330\, Mexico
CATEGORIES:Arte y Cultura,Cine
ATTACH;FMTTYPE=image/png:https://mc.jpf.go.jp/wp-content/uploads/2025/07/cine-terror_1.png
END:VEVENT
BEGIN:VEVENT
DTSTART;TZID=America/Mexico_City:20250718T180000
DTEND;TZID=America/Mexico_City:20250718T210000
DTSTAMP:20260424T060802
CREATED:20250708T234812Z
LAST-MODIFIED:20250708T234813Z
UID:11122-1752861600-1752872400@mc.jpf.go.jp
SUMMARY:Cine sesiones "JFF Theater" (The Genealogy of Sake) + Conferencia y degustación
DESCRIPTION:Continuamos el ciclo de “Cine Sesiones de la Cineteca Nacional de las Artes” con una experiencia inmersiva\, ya que después de la proyección del documental “The Genealogy of Sake” (Kaori Ishii\, 2015)\, tendremos la oportunidad de conocer más sobre este producto con la conferencia impartida por Francisco González Romero\, director para Latinoamérica de la Sake Sommelier Association. Asimismo\, después de la charla\, tendremos una pequeña degustación de sake. \n\n\n\n \n\n\n\n\n\n\n\n \n\n\n\nLos invitamos a descubrir sobre la producción tradicional del sake en la península de Noto y a probar el delicioso sake de la prefectura de Ishikawa. \n\n\n\nLa cita es: \n\n\n\nVIERNES 18 DE JULIO \n\n\n\n18:00 hrs \n\n\n\nCineteca Nacional de las Artes (Av. Río Churubusco 79\, Country Club Churubusco\, Coyoacán\, Ciudad de México). \n\n\n\nAdquiere tus cortesías 15 minutos antes de las funciones.  \n\n\n\n \n\n\n\n\nPaco González Romero es sommelier especializado en cerveza\, sake y vino\, con más de una década de experiencia en la evaluación sensorial\, la educación y la comunicación de bebidas tradicionales y contemporáneas. Actualmente es Director para Latinoamérica de la Sake Sommelier Association\, desde donde promueve activamente la cultura del sake en la región\, imparte certificaciones internacionales y colabora con restaurantes y centros de consumo para fortalecer la oferta y el conocimiento sobre esta bebida japonesa ancestral. \n\n\n\nAdemás\, es Coordinador Académico de la Academia Nacional de Sommeliers y Gastrónomos\, donde diseña e imparte diplomados sobre cerveza\, vino\, sake\, destilados y análisis sensorial. Ha sido jurado en más de 100 competencias internacionales de cerveza en países como México\, Japón\, Brasil\, Sudáfrica\, Italia y Colombia\, y es reconocido por su labor como embajador de las bebidas fermentadas.
URL:https://mc.jpf.go.jp/evento/cine-sesiones-jff-theater-the-genealogy-of-sake-conferencia-y-degustacion-2/
LOCATION:Cineteca Nacional de las Artes\, Av. Río Churubusco 79\, Country Club Churubusco\, Coyoacán\, Ciudad de México\, Ciudad de México\, 04220\, Mexico
CATEGORIES:Arte y Cultura,Cine
ATTACH;FMTTYPE=image/png:https://mc.jpf.go.jp/wp-content/uploads/2025/07/cine-sake.png
END:VEVENT
BEGIN:VEVENT
DTSTART;TZID=America/Mexico_City:20250721T180000
DTEND;TZID=America/Mexico_City:20250721T193000
DTSTAMP:20260424T060802
CREATED:20250716T222053Z
LAST-MODIFIED:20250716T222054Z
UID:11143-1753120800-1753126200@mc.jpf.go.jp
SUMMARY:Conferencia "Breve historia del cine de horror japonés"
DESCRIPTION:En el marco del ciclo “Maestros del cine de terror japonés”\, que se lleva a cabo del 15 al 27 de julio en la Cineteca Nacional\, los invitamos a descubrir el origen y desarrollo de este género cinematográfico en Japón\, en la conferencia “Breve historia del cine de horror japonés”\, impartida por el Mtro. Salvador Velasco. \n\n\n\n \n\n\n\n\n\n\n\n \n\n\n\n\nSalvador Eduardo Velasco Ríos es Licenciado en Letras Inglesas por la Universidad Nacional Autónoma de México. Posee una Maestría en Estudios Fílmicos por la Universidad de Hong Kong\, y una segunda Maestría en Estudios sobre Japón por el Colegio de México (COLMEX). Actualmente es Doctorando en Literatura Comparada en el Instituto de Investigaciones Filológicas de la UNAM; es profesor sobre cine asiático en Cineteca Nacional\, y conferencista sobre temas cinematográficos para la Fundación Japón en México. Sus intereses de investigación giran alrededor del desarrollo histórico y teórico del cine en Japón y en el Este de Asia. \n\n\n\n\n \n\n\n\nLa cita es: \n\n\n\nLUNES 21 DE JULIO \n\n\n\n18:00 hrs \n\n\n\nSala 4 de la Cineteca Nacional (Av. México-Coyoacán\, No. 389\, Col. Xoco\, Benito Juárez\, CDMX) \n\n\n\nCon transmisión en línea por nuestro Facebook Live \n\n\n\n¡Los esperamos!
URL:https://mc.jpf.go.jp/evento/conferencia-breve-historia-del-cine-de-horror-japones/
LOCATION:Cineteca Nacional\, Av. México-Coyoacán\, No. 389\, Col. Xoco\, Mexico City\, Mexico City\, 03330\, Mexico
CATEGORIES:Arte y Cultura,Cine
ATTACH;FMTTYPE=image/png:https://mc.jpf.go.jp/wp-content/uploads/2025/07/terror_1.png
END:VEVENT
END:VCALENDAR