BEGIN:VCALENDAR
VERSION:2.0
PRODID:-//Fundación Japón - ECPv6.15.20//NONSGML v1.0//EN
CALSCALE:GREGORIAN
METHOD:PUBLISH
X-ORIGINAL-URL:https://mc.jpf.go.jp
X-WR-CALDESC:Eventos para Fundación Japón
REFRESH-INTERVAL;VALUE=DURATION:PT1H
X-Robots-Tag:noindex
X-PUBLISHED-TTL:PT1H
BEGIN:VTIMEZONE
TZID:America/Mexico_City
BEGIN:DAYLIGHT
TZOFFSETFROM:-0600
TZOFFSETTO:-0500
TZNAME:CDT
DTSTART:20240407T080000
END:DAYLIGHT
BEGIN:STANDARD
TZOFFSETFROM:-0500
TZOFFSETTO:-0600
TZNAME:CST
DTSTART:20241027T070000
END:STANDARD
BEGIN:DAYLIGHT
TZOFFSETFROM:-0600
TZOFFSETTO:-0500
TZNAME:CDT
DTSTART:20250406T080000
END:DAYLIGHT
BEGIN:STANDARD
TZOFFSETFROM:-0500
TZOFFSETTO:-0600
TZNAME:CST
DTSTART:20251026T070000
END:STANDARD
BEGIN:DAYLIGHT
TZOFFSETFROM:-0600
TZOFFSETTO:-0500
TZNAME:CDT
DTSTART:20260405T080000
END:DAYLIGHT
BEGIN:STANDARD
TZOFFSETFROM:-0500
TZOFFSETTO:-0600
TZNAME:CST
DTSTART:20261025T070000
END:STANDARD
END:VTIMEZONE
BEGIN:VEVENT
DTSTART;TZID=America/Mexico_City:20250802T180000
DTEND;TZID=America/Mexico_City:20250802T193000
DTSTAMP:20260424T042722
CREATED:20250716T222801Z
LAST-MODIFIED:20250725T173848Z
UID:11148-1754157600-1754163000@mc.jpf.go.jp
SUMMARY:Kotaro Fukuma en Bellas Artes
DESCRIPTION:Fundación Japón en México presenta a KOTARO FUKUMA en el Palacio de Bellas Artes con el Recital de Piano: “Shimmering Water”  \n\n\n\nTe invitamos a un viaje sonoro a través de las obras de destacados compositores japoneses interpretadas por uno de los pianistas más reconocidos actualmente\, Kotaro Fukuma. \n\n\n\n \n\n\n\n\n\n\n\n \n\n\n\nUna velada íntima para descubrir la sensibilidad\, profundidad y belleza de la música del Japón\, interpretada al piano. \n\n\n\nLa cita es: \n\n\n\n SÁBADO 2 DE AGOSTO \n\n\n\n 18:00 hrs \n\n\n\n Sala Manuel M. Ponce del Palacio de Bellas Artes (Av. Juarez S/N\, Centro Histórico de la Cdad. de México\, Centro\, Cuauhtémoc) \n\n\n\nBoletos en taquilla y Ticketmaster \n\n\n\n \n\n\n\n\nBoletos Recital Kotaro Fukuma en Bellas Artes\n\n\n\n\n \n\n\n\n¡Los esperamos!
URL:https://mc.jpf.go.jp/evento/kotaro-fukuma-en-bellas-artes/
LOCATION:Palacio de Bellas Artes\, Av. Juárez s/n\, Centro Histórico\, Ciudad de México\, Ciudad de México\, 06050\, Mexico
CATEGORIES:Arte y Cultura
ATTACH;FMTTYPE=image/png:https://mc.jpf.go.jp/wp-content/uploads/2025/07/fukuma_1.png
END:VEVENT
BEGIN:VEVENT
DTSTART;TZID=America/Mexico_City:20250823T160000
DTEND;TZID=America/Mexico_City:20250823T200000
DTSTAMP:20260424T042722
CREATED:20250813T002226Z
LAST-MODIFIED:20250813T002229Z
UID:11176-1755964800-1755979200@mc.jpf.go.jp
SUMMARY:Ciclo de Cine Japonés en Oaxaca
DESCRIPTION:En el marco de la exposición itinerante “Imágenes y materia fotográfica: Impresiones japonesas de la década de 1970”\, los invitamos a una pequeña jornada de cine japonés en la capilla del Rosario en el Centro Cultural San Pablo. \n\n\n\n \n\n\n\n\n\n\n\n \n\n\n\nA las 16:00 hrs se proyecta la película “Lunes: Nos vemos ‘está’ semana” (Ryo Takebayashi\, 2022). Una divertida comedia de ciencia ficción que cuenta la historia de Akemi Yoshikawa quien\, en medio de la peor semana de su vida\, con una lesión y una fecha límite para el área de publicidad de su empresa\, se da cuenta de que toda su oficina se encuentra atascada en un bucle temporal. \n\n\n\n \n\n\n\nLunes: nos vemos ‘está’ semana\n\n\n\n \n\n\n\nA las 18:00 hrs se presentá “Las líneas que me definen” (Norihiro Koizumi\, 2022). Que cuenta la historia de como el joven Sosuke encuentra consuelo\, después de una tragedia familiar\, a través de la pintura tradicional con tinta japonesa\, conocida como sumi-e. \n\n\n\n \n\n\n\nLas líneas que me definen\n\n\n\n¡Los esperamos!
URL:https://mc.jpf.go.jp/evento/ciclo-de-cine-japones-en-oaxaca/
LOCATION:Centro Cultural San Pablo\, Miguel Hidalgo 907\, Centro\, Oaxaca de Juárez\, Oaxaca\, 68000\, Mexico
CATEGORIES:Arte y Cultura,Cine
ATTACH;FMTTYPE=image/png:https://mc.jpf.go.jp/wp-content/uploads/2025/08/cine-oaxaca.png
END:VEVENT
END:VCALENDAR