BEGIN:VCALENDAR
VERSION:2.0
PRODID:-//Fundación Japón - ECPv6.15.20//NONSGML v1.0//EN
CALSCALE:GREGORIAN
METHOD:PUBLISH
X-WR-CALNAME:Fundación Japón
X-ORIGINAL-URL:https://mc.jpf.go.jp
X-WR-CALDESC:Eventos para Fundación Japón
REFRESH-INTERVAL;VALUE=DURATION:PT1H
X-Robots-Tag:noindex
X-PUBLISHED-TTL:PT1H
BEGIN:VTIMEZONE
TZID:America/Mexico_City
BEGIN:DAYLIGHT
TZOFFSETFROM:-0600
TZOFFSETTO:-0500
TZNAME:CDT
DTSTART:20240407T080000
END:DAYLIGHT
BEGIN:STANDARD
TZOFFSETFROM:-0500
TZOFFSETTO:-0600
TZNAME:CST
DTSTART:20241027T070000
END:STANDARD
BEGIN:DAYLIGHT
TZOFFSETFROM:-0600
TZOFFSETTO:-0500
TZNAME:CDT
DTSTART:20250406T080000
END:DAYLIGHT
BEGIN:STANDARD
TZOFFSETFROM:-0500
TZOFFSETTO:-0600
TZNAME:CST
DTSTART:20251026T070000
END:STANDARD
BEGIN:DAYLIGHT
TZOFFSETFROM:-0600
TZOFFSETTO:-0500
TZNAME:CDT
DTSTART:20260405T080000
END:DAYLIGHT
BEGIN:STANDARD
TZOFFSETFROM:-0500
TZOFFSETTO:-0600
TZNAME:CST
DTSTART:20261025T070000
END:STANDARD
END:VTIMEZONE
BEGIN:VEVENT
DTSTART;TZID=America/Mexico_City:20250911T183000
DTEND;TZID=America/Mexico_City:20250911T193000
DTSTAMP:20260424T023441
CREATED:20250905T213253Z
LAST-MODIFIED:20250905T213255Z
UID:11198-1757615400-1757619000@mc.jpf.go.jp
SUMMARY:2da sesión de "Las voces de Mishima: 100 años de narrativas"
DESCRIPTION: ¡Atención lectores!  \n\n\n\nNo se pierdan de este ciclo de lecturas en voz alta en torno a la obra de Yukio Mishima\, en conmemoración de su centenario.  \n\n\n\n \n\n\n\n\n\n\n\n \n\n\n\nAcompáñanos en Antonia. La oficina del libro (@antonia_libreria)\, el JUEVES 11 DE SEPTIEMBRE a las 18:30 hrs\, y aprovecha para compartir algunos de los extractos de tus obras favoritas del autor y tus reflexiones sobre ellos.  \n\n\n\nEn la segunda sesión de este ciclo de lecturas leeremos y discutiremos algunos fragmentos del intercambio epistolar entre Yukio Mishima y Yasunari Kawabata\, compilada en el libro “Correspondencias (1945 – 1970)”. \n\n\n\n \n\n\n\n\n\n\n\n \n\n\n\n¡Los esperamos!  \n\n\n\nLugar del evento: Antonio Sola 67A\, Colonia Condesa\, Cuauhtémoc\, 06140\, CDMX\, México \n\n\n\n Entrada libre | Cupo limitado 
URL:https://mc.jpf.go.jp/evento/2da-sesion-de-las-voces-de-mishima-100-anos-de-narrativas/
LOCATION:Antonia. La oficina del libro\, Antonio Sola 67A\, Colonia Condesa\, Cuauhtémoc\, Ciudad de México\, Ciudad de México\, 06140\, Mexico
CATEGORIES:Arte y Cultura,Estudios sobre Japón
ATTACH;FMTTYPE=image/jpeg:https://mc.jpf.go.jp/wp-content/uploads/2025/09/Mishima.jpg
END:VEVENT
BEGIN:VEVENT
DTSTART;TZID=America/Mexico_City:20250925T183000
DTEND;TZID=America/Mexico_City:20250925T193000
DTSTAMP:20260424T023441
CREATED:20250911T172939Z
LAST-MODIFIED:20250922T234356Z
UID:11204-1758825000-1758828600@mc.jpf.go.jp
SUMMARY:3ra sesión de “Las voces de Mishima: 100 años de narrativas”
DESCRIPTION: ¡Atención lectores!  \n\n\n\nNo se pierdan de este ciclo de lecturas en voz alta en torno a la obra de Yukio Mishima\, en conmemoración de su centenario.  \n\n\n\n \n\n\n\n\n\n\n\n \n\n\n\nAcompáñanos en Antonia. La oficina del libro (@antonia_libreria)\, el JUEVES 25 DE SEPTIEMBRE a las 18:30 hrs\, y aprovecha para compartir algunos de los extractos de tus obras favoritas del autor y tus reflexiones sobre ellos.  \n\n\n\nEn la tercera y última sesión descubriremos la fascinación de Mishima por el México prehispánico y la relación que estableció entre el panteón maya y el japonés\, con la lectura de su nota introductoria a la traducción al japon´és del Popol Vuh\, junto a algunos extractos del Kojiki\, libro sobre la historia mítica de Japón. Asimismo\, la Mtra. Tania Rosas\, especialista en literatura japonesa\, ofrecerá una pequeña charla sobre la obra del autor para cerrar con broche de oro. \n\n\n\n \n\n\n\n\n\n\n\n \n\n\n\n\nTania Rosas \n\n\n\nEgresada de la Maestría en Estudios de Asia y África con especialidad en Japón por El Colegio de México y Licenciada en Lengua y Literaturas Hispánicas por la UNAM.  \n\n\n\nHa colaborado con el Programa Universitario de Estudios de Asia\, África y Oceanía de la UNAM en diversos eventos\, entre los que destaca la II Jornada de Cultura Japonesa: Yukio Mishima\, a 90 años de su nacimiento; a partir de lo cual publicó un artículo llamado “La noción budista de ‘taṇhā’ en Sed de amor de Yukio Mishima” para el libro Yukio Mishima y su legado en México (UNAM). \n\n\n\nSus líneas de investigación son la literatura japonesa moderna y contemporánea. \n\n\n\n\n \n\n\n\n¡Los esperamos!  \n\n\n\nLugar del evento: Antonio Sola 67A\, Colonia Condesa\, Cuauhtémoc\, 06140\, CDMX\, México \n\n\n\n Entrada libre | Cupo limitado 
URL:https://mc.jpf.go.jp/evento/3ra-sesion-de-las-voces-de-mishima-100-anos-de-narrativas/
LOCATION:Antonia. La oficina del libro\, Antonio Sola 67A\, Colonia Condesa\, Cuauhtémoc\, Ciudad de México\, Ciudad de México\, 06140\, Mexico
CATEGORIES:Arte y Cultura,Estudios sobre Japón
ATTACH;FMTTYPE=image/jpeg:https://mc.jpf.go.jp/wp-content/uploads/2025/09/Mishima.jpg
END:VEVENT
BEGIN:VEVENT
DTSTART;TZID=America/Mexico_City:20250927T130000
DTEND;TZID=America/Mexico_City:20250927T143000
DTSTAMP:20260424T023441
CREATED:20250923T001529Z
LAST-MODIFIED:20250923T001530Z
UID:11216-1758978000-1758983400@mc.jpf.go.jp
SUMMARY:Conferencia Magistral: "Consideraciones sobre la gráfica en el Japón Moderno"
DESCRIPTION:Amigos de Oaxaca\, en el marco de la exposición “Imágenes y materia fotográfica: Impresiones japonesas de la década de 1970”\, los invitamos a la Conferencia Magistral “Consideraciones sobre la gráfica en el Japón moderno”\, impartida por el Dr. Amaury A. García Rodríguez del Centro de Estudios de Asia y África – Colmex \n\n\n\n \n\n\n\n\n\n\n\nEsta charla ofrecerá un panorama general del desarrollo de la gráfica moderna en Japón a lo largo de los primeros 60 años del siglo XX\, explorando sus principales monumentos representativos tanto en el mundo de las artes plásticas como en el diseño. \n\n\n\nLa cita es: \n\n\n\nSÁBADO 27 DE SEPTIEMBRE \n\n\n\n13:00 hrs \n\n\n\nClaustro del Centro Cultural San Pablo (Miguel Hidalgo 907\, Centro de Oaxaca\, Oaxaca de Juárez\, México) \n\n\n\n \n\n\n\n\nDr. Amaury García \n\n\n\nDoctor en Estudios Japoneses\, por el Centro de Estudios de Asia y África (CEAA)\, El Colegio de México. Sus temas de investigación giran en torno a la historiografía del arte japonés\, y la cultura material y visual de Japón\, en particular la cultura popular urbana y su producción xilográfica durante los siglos XVIII y XIX\, así como sobre comercio y coleccionismo de arte japonés en América Latina. Es miembro del Sistema Nacional de Investigadores de CONACYT. En el año 2019 recibió el reconocimiento del Ministro de Relaciones Exteriores de Japón por su trabajo en beneficio de la difusión de la cultura japonesa en México. Fue director del CEAA durante el periodo de 2016 a 2022. En la actualidad es profesor-investigador del CEAA y Coordinador de la Cátedra de Estudios sobre Arte Japonés – Terry Welch.
URL:https://mc.jpf.go.jp/evento/conferencia-magistral-consideraciones-sobre-la-grafica-en-el-japon-moderno/
LOCATION:Centro Cultural San Pablo\, Miguel Hidalgo 907\, Centro\, Oaxaca de Juárez\, Oaxaca\, 68000\, Mexico
CATEGORIES:Arte y Cultura
ATTACH;FMTTYPE=image/jpeg:https://mc.jpf.go.jp/wp-content/uploads/2025/09/Conferencia-dr-amaury.jpg
END:VEVENT
END:VCALENDAR