BEGIN:VCALENDAR
VERSION:2.0
PRODID:-//Fundación Japón - ECPv6.15.20//NONSGML v1.0//EN
CALSCALE:GREGORIAN
METHOD:PUBLISH
X-WR-CALNAME:Fundación Japón
X-ORIGINAL-URL:https://mc.jpf.go.jp
X-WR-CALDESC:Eventos para Fundación Japón
REFRESH-INTERVAL;VALUE=DURATION:PT1H
X-Robots-Tag:noindex
X-PUBLISHED-TTL:PT1H
BEGIN:VTIMEZONE
TZID:America/Mexico_City
BEGIN:DAYLIGHT
TZOFFSETFROM:-0600
TZOFFSETTO:-0500
TZNAME:CDT
DTSTART:20240407T080000
END:DAYLIGHT
BEGIN:STANDARD
TZOFFSETFROM:-0500
TZOFFSETTO:-0600
TZNAME:CST
DTSTART:20241027T070000
END:STANDARD
BEGIN:DAYLIGHT
TZOFFSETFROM:-0600
TZOFFSETTO:-0500
TZNAME:CDT
DTSTART:20250406T080000
END:DAYLIGHT
BEGIN:STANDARD
TZOFFSETFROM:-0500
TZOFFSETTO:-0600
TZNAME:CST
DTSTART:20251026T070000
END:STANDARD
BEGIN:DAYLIGHT
TZOFFSETFROM:-0600
TZOFFSETTO:-0500
TZNAME:CDT
DTSTART:20260405T080000
END:DAYLIGHT
BEGIN:STANDARD
TZOFFSETFROM:-0500
TZOFFSETTO:-0600
TZNAME:CST
DTSTART:20261025T070000
END:STANDARD
END:VTIMEZONE
BEGIN:VEVENT
DTSTART;TZID=America/Mexico_City:20251126T180000
DTEND;TZID=America/Mexico_City:20251126T190000
DTSTAMP:20260423T225014
CREATED:20251125T164102Z
LAST-MODIFIED:20251125T164104Z
UID:11359-1764180000-1764183600@mc.jpf.go.jp
SUMMARY:Premiación virtual del Concurso de Dibujo 2025: "Interpreta y dibuja un kanji"
DESCRIPTION:¡Ya casi es el gran día!  \n\n\n\nEste MIÉRCOLES 26 de noviembre a las 6:00 p.m. acompáñennos por Facebook Live para conocer a los finalistas y ganadores del “Concurso de Dibujo 2025: Interpreta y dibuja un kanji”. \n\n\n\n \n\n\n\n\n\n\n\n \n\n\n\nPero eso no es todo…  \n\n\n\nNotPerera\, artista invitado\, estará con nosotros para compartir tips y consejos que te ayudarán a llevar tu dibujo al siguiente nivel.  \n\n\n\n \n\n\n\n\nDiego Perera también conocido como Not Perera es un Ilustrador\, artista conceptual\, y creador de contenido mexicano con una fuerte influencia en el anime retro\, videojuegos de los 2000’s y una vibra muy experimental. \n\n\n\n\n \n\n\n\n ¡Conéctense y celebremos juntos el talento creativo!
URL:https://mc.jpf.go.jp/evento/premiacion-virtual-del-concurso-de-dibujo-2025-interpreta-y-dibuja-un-kanji/
LOCATION:Puebla
CATEGORIES:Arte y Cultura
ATTACH;FMTTYPE=image/png:https://mc.jpf.go.jp/wp-content/uploads/2025/07/concurso-de-dibujo-2025_corto.png
END:VEVENT
BEGIN:VEVENT
DTSTART;TZID=America/Mexico_City:20251127T180000
DTEND;TZID=America/Mexico_City:20251127T190000
DTSTAMP:20260423T225014
CREATED:20251125T172033Z
LAST-MODIFIED:20251125T172034Z
UID:11364-1764266400-1764270000@mc.jpf.go.jp
SUMMARY:Presentación editorial de la revista "Tokidoki Hyakusho"
DESCRIPTION:Amigos\, los invitamos a la presentación editorial de la revista “Tokidoki Hyakusho. Puentes rituales: imágenes y voces del campo”\, revista bilingüe\, español y japonés\, de ensayo y fotografía\, que reflexiona\, desde la perspectiva campesina y comunitaria\, sobre la dialéctica sociedad-naturaleza de los espacios y comunidades rurales en México y Japón. \n\n\n\n \n\n\n\n\n\n\n\n \n\n\n\nParticipan: Andrés Camacho\, Amadís Ross y Norihisa Arai. \n\n\n\nLa cita es: \n\n\n\n JUEVES 27 DE NOVIEMBRE \n\n\n\n18:00 h \n\n\n\nMuseo Universitario del Chopo\, UNAM (C. Dr. Enrique González Martínez 10\, Sta. María la Ribera\, Cuauhtémoc\, Ciudad de México) \n\n\n\n \n\n\n\n\nAndrés Camacho es doctorando en literatura moderna y cultura popular de Japón por parte de la Universidad de Córdoba\, España. Su investigación es sobre la adaptación del seppuku\, la muerte ritual del samurái hecha por Mishima Yukio y otros autores en el cine y la literatura durante la década de 1960\, en el contexto de las protestas sociales y estudiantiles. Actualmente\, trabaja como escritor e investigador en Higashiyoshino\, pueblo de la montaña en Nara\, donde investiga sobre el Tenchūgumi y otros grupos samuráis insubordinados en el marco del encuentro violento de Japón con Occidente\, su modelo civilizatorio y la restauración del Emperador como símbolo de poder a mediados del siglo XIX. En Higashiyoshino también está a cargo de investigar y documentar las prácticas sociales y culturales de las comunidades campesinas que integran el pueblo. Es editor de la “Tokidoki Hyakusho”\, revista bilingüe\, español y japonés\, de ensayo y fotografía\, donde se reflexiona desde los espacios rurales de México y Japón\, la dialéctica sociedad-naturaleza de los complejos mundos campesinos con los territorios que habitan. Miembro del Seminario Permanente de Investigación sobre Arte y Cultura México Japón\, auspiciado por el CENIDIAP. Productor y conductor del podcast sobre historia de Japón a contrapelo\, JAPÓN ES CHIDO. \n\n\n\n\n \n\n\n\n\nAmadís Ross es escritor y académico. Investigador del Centro Nacional de Investigación\, Documentación e Información de Artes Plásticas (Cenidiap) del Instituto Nacional de Bellas Artes y Literatura (INBAL). Coordinador del Seminario Estéticas de Ciencia Ficción\, y coordinador del Seminario Permanente de Investigación de Arte y Cultura México-Japón. Ha publicado artículos sobre ciencia ficción y cultura japonesa en revistas como Discurso Visual\, HArtes\, Tokidoki Hyakushō\, armas y letras\, Espejo Humeante\, Piso9 y Anapoyesis. Ha participado con capítulos en libros editados en México y España. Organizador del Encuentro de Estéticas de Ciencia Ficción\, con cuatro ediciones a la fecha\, y de las dos emisiones del Coloquio Internacional de Estudios de Arte y Cultura Iberoamérica- Japón. Ha coordinado seis libros de ensayos del Seminario Estéticas de Ciencia Ficción y dos del Seminario Permanente de Investigación de Arte y Cultura México-Japón. Ganó el primer lugar del premio al desempeño académico en investigación 2020 del INBAL. Fue editor de la revista académica arbitrada Discurso Visual de 2013 a 2020. \n\n\n\n\n \n\n\n\n\nNorihisa Arai es licenciado en Letras por la Universidad de Osaka. Becario del programa de intercambio en el marco del Plan para la Asociación Estratégica Global entre México y Japón 2013-2014. Maestro en Estudios Latinoamericanos por la Universidad Nacional Autónoma de México (UNAM)\, es Doctor en Estudios Latinoamericanos por la misma institución. Paralelamente a su formación académica\, tiene una amplia experiencia como traductor japonés – español tanto en los sectores público como privado. Actualmente es becario posdoctoral en el PUEAAO-UNAM\, desarrollando investigaciones sobre el proceso histórico y la actualidad de desmantelamiento y transformación del ámbito rural en Asia Oriental. Es miembro actual de ALADAA México y su principal enfoque es la antropología y el estudio de folklore (Minzokugaku). \n\n\n\n\n \n\n\n\n¡Los esperamos!
URL:https://mc.jpf.go.jp/evento/presentacion-editorial-de-la-revista-tokidoki-hyakusho/
LOCATION:Museo Universitario del Chopo\, C. Dr. Enrique González Martínez 10\, Sta\, María la Ribera\, Cuauhtémoc\, Ciudad de México\, Ciudad de México\, 06400\, Mexico
CATEGORIES:Estudios sobre Japón
ATTACH;FMTTYPE=image/jpeg:https://mc.jpf.go.jp/wp-content/uploads/2025/11/PRES-ED-TOKIDOKI-X-.jpg
END:VEVENT
BEGIN:VEVENT
DTSTART;TZID=America/Mexico_City:20251129T130000
DTEND;TZID=America/Mexico_City:20251129T160000
DTSTAMP:20260423T225014
CREATED:20251125T003716Z
LAST-MODIFIED:20251125T004009Z
UID:11353-1764421200-1764432000@mc.jpf.go.jp
SUMMARY:2da sesión del Cine Club "Del papel a la pantalla: Cine y manga japonés"
DESCRIPTION:Amigos\, los esperamos el SÁBADO 29 DE NOVIEMBRE en el Auditorio del Museo Franz Mayer para la segunda sesión del Cine Club: “Del papel a la pantalla: Cine y manga japonés”\, un ciclo dedicado a las películas inspiradas en los mangas más entrañables. \n\n\n\n \n\n\n\n\n\n\n\n \n\n\n\nAcompáñanos a descubrir cómo las historias e ilustraciones cobran vida en la gran pantalla y comparte tus impresiones al final de cada función con el especialista en cine japonés Mtro. Salvador Velasco. \n\n\n\nEl próximo sábado hablaremos sobre la película “My Love Story!!” (Hayato Kawai\, 2015)\, basado en el manga escrito por Kazune Kawahara\, que sigue la primera historia de amor de\, Takeo Goda\, un chico de preparatoria con un físico intimidante pero un gran corazón. \n\n\n\n \n\n\n\n\n\n\n\n \n\n\n\nLa cita es: \n\n\n\nSÁBADO 29 DE NOVIEMBRE \n\n\n\n13:00 h \n\n\n\nAuditorio del Museo Franz Mayer (Av. Hidalgo 45\, Ciudad de México) \n\n\n\nActividad incluida con tu boleto de entrada al museo. \n\n\n\n \n\n\n\n\nSalvador Eduardo Velasco Ríos es Licenciado en Letras Inglesas por la Universidad Nacional Autónoma de México. Posee una Maestría en Estudios Fílmicos por la Universidad de Hong Kong\, y una segunda Maestría en Estudios sobre Japón por el Colegio de México (COLMEX). Actualmente es Doctorando en Literatura Comparada en el Instituto de Investigaciones Filológicas de la UNAM; es profesor sobre cine asiático en Cineteca Nacional\, y conferencista sobre temas cinematográficos para la Fundación Japón en México. Sus intereses de investigación giran alrededor del desarrollo histórico y teórico del cine en Japón y en el Este de Asia. \n\n\n\n\n \n\n\n\n¡Los esperamos!
URL:https://mc.jpf.go.jp/evento/2da-sesion-del-cine-club-del-papel-a-la-pantalla-cine-y-manga-japones/
LOCATION:Museo Franz Mayer\, Av. Hidalgo 45\, Centro Histórico de la Cdad. de México\, Guerrero\, Cuauhtémoc\, 06300 Ciudad de México\, CDMX\, Ciudad de México\, Ciudad de México\, 06300\, Mexico
CATEGORIES:Arte y Cultura,Cine
ATTACH;FMTTYPE=image/jpeg:https://mc.jpf.go.jp/wp-content/uploads/2025/11/Cine-club-franz.jpg
END:VEVENT
BEGIN:VEVENT
DTSTART;TZID=America/Mexico_City:20251129T160000
DTEND;TZID=America/Mexico_City:20251129T190000
DTSTAMP:20260423T225014
CREATED:20251125T001025Z
LAST-MODIFIED:20251125T001029Z
UID:11340-1764432000-1764442800@mc.jpf.go.jp
SUMMARY:4ta Cine sesión. "Aprender y saborear: Japón en el cine"
DESCRIPTION:¡El cine japonés llega a Chapultepec! \n\n\n\nSigue disfrutando de nuestro ciclo Cine Sesiones: “Aprender y saborear: Japón en el cine”  en la nueva Cineteca Nacional Chapultepec\, todos los sábados de noviembre a las 16:00 h. \n\n\n\n \n\n\n\n\n\n\n\n \n\n\n\nEste SÁBADO 29 DE NOVIEMBRE\, no te pierdas “TEIICHI: Battle of Supreme High” (Akira Nagai\, 2017)\, divertidísima comedia japonesa\, en donde las elecciones estudiantiles se convierten en un auténtico campo de guerra. Intrigas\, alianzas imposibles y golpes bajos (figurados… o no) en una escuela de élite donde todos quieren el poder. \n\n\n\n \n\n\n\n\n\n\n\n \n\n\n\n Al terminar la proyección\, tendremos un espacio para charlar sobre la película con la especialista en cine Valeria Barrón. \n\n\n\n Cineteca Nacional Chapultepec \n\n\n\n Todos los sábados de noviembre \n\n\n\n 16:00 h \n\n\n\n Entrada libre \n\n\n\n ¡Ven a disfrutar\, aprender y compartir el cine japonés en Chapultepec!
URL:https://mc.jpf.go.jp/evento/4ta-cine-sesion-aprender-y-saborear-japon-en-el-cine/
LOCATION:Cineteca Nacional de Chapultepec\, Av. Vasco de Quiroga #1401\, Colonia Santa Fé\, Álvaro Obregón\, Ciudad de México\, Mexico City\, 01219\, Mexico
CATEGORIES:Arte y Cultura,Cine
ATTACH;FMTTYPE=image/jpeg:https://mc.jpf.go.jp/wp-content/uploads/2025/11/Cine-sesiones-chapul.jpg
END:VEVENT
END:VCALENDAR