BEGIN:VCALENDAR
VERSION:2.0
PRODID:-//Fundación Japón - ECPv6.15.20//NONSGML v1.0//EN
CALSCALE:GREGORIAN
METHOD:PUBLISH
X-ORIGINAL-URL:https://mc.jpf.go.jp
X-WR-CALDESC:Eventos para Fundación Japón
REFRESH-INTERVAL;VALUE=DURATION:PT1H
X-Robots-Tag:noindex
X-PUBLISHED-TTL:PT1H
BEGIN:VTIMEZONE
TZID:America/Mexico_City
BEGIN:DAYLIGHT
TZOFFSETFROM:-0600
TZOFFSETTO:-0500
TZNAME:CDT
DTSTART:20250406T080000
END:DAYLIGHT
BEGIN:STANDARD
TZOFFSETFROM:-0500
TZOFFSETTO:-0600
TZNAME:CST
DTSTART:20251026T070000
END:STANDARD
BEGIN:DAYLIGHT
TZOFFSETFROM:-0600
TZOFFSETTO:-0500
TZNAME:CDT
DTSTART:20260405T080000
END:DAYLIGHT
BEGIN:STANDARD
TZOFFSETFROM:-0500
TZOFFSETTO:-0600
TZNAME:CST
DTSTART:20261025T070000
END:STANDARD
BEGIN:DAYLIGHT
TZOFFSETFROM:-0600
TZOFFSETTO:-0500
TZNAME:CDT
DTSTART:20270404T080000
END:DAYLIGHT
BEGIN:STANDARD
TZOFFSETFROM:-0500
TZOFFSETTO:-0600
TZNAME:CST
DTSTART:20271031T070000
END:STANDARD
END:VTIMEZONE
BEGIN:VEVENT
DTSTART;TZID=America/Mexico_City:20260306T160000
DTEND;TZID=America/Mexico_City:20260306T170000
DTSTAMP:20260423T150115
CREATED:20260302T224738Z
LAST-MODIFIED:20260302T224806Z
UID:11576-1772812800-1772816400@mc.jpf.go.jp
SUMMARY:Inauguración Exposición "Neo KIMONO" en Museo Casa de Carranza
DESCRIPTION:Tradición que se reinventa: el kimono en diálogo con Latinoamérica  \n\n\n\nTe invitamos a descubrir una propuesta que entrelaza historia\, identidad y creación contemporánea en una experiencia visual única: “Neo KIMONO” \n\n\n\n\n\n\n\n \n\n\n\nUna exposición en donde la diseñadora japonesa Kumiko Iijima presenta una colección de kimonos contemporáneos que reinterpretan esta prenda tradicional desde una mirada actual\, sensible y profundamente intercultural. \n\n\n\nComo parte del colectivo LatiJapo\, Iijima explora el intercambio artístico entre Japón y Latinoamérica\, fusionando técnicas\, símbolos y narrativas que cruzan océanos para encontrarse en la tela. \n\n\n\n Los esperamos en el Museo Casa de Carranza INAH (C. Río Lerma 35\, Col. Renacimiento\, Cuauhtémoc\, Ciudad de México) \n\n\n\n Del 6 al 15 de marzo de 2026 \n\n\n\nUna oportunidad para contemplar cómo el kimono se transforma en un puente cultural\, donde tradición y contemporaneidad dialogan en cada pliegue.
URL:https://mc.jpf.go.jp/evento/inauguracion-exposicion-neo-kimono-en-museo-casa-de-carranza/
LOCATION:Museo Casa de Carranza\, C. Río Lerma 35\, Col. Renacimiento\, Cuauhtémoc\, Ciudad de México\, Ciudad de México\, 06500\, Mexico
CATEGORIES:Arte y Cultura
ATTACH;FMTTYPE=image/jpeg:https://mc.jpf.go.jp/wp-content/uploads/2026/03/neokimono_insta.jpg
END:VEVENT
BEGIN:VEVENT
DTSTART;TZID=America/Mexico_City:20260312T160000
DTEND;TZID=America/Mexico_City:20260312T180000
DTSTAMP:20260423T150115
CREATED:20260302T221620Z
LAST-MODIFIED:20260302T221621Z
UID:11567-1773331200-1773338400@mc.jpf.go.jp
SUMMARY:3ra Sesión del Club de Lectura 2026: "Cartografías del cuerpo: Sensaciones\, enfermedad y deseo"
DESCRIPTION:LECTORES Y LECTORAS ¡Los invitamos a participar en la segunda sesión del del Club de Lectura: “Cartografías del cuerpo: Sensaciones\, enfermedad y deseo”! \n\n\n\nEn esta ocasión leeremos y platicaremos sobre libros que dialogan en torno a la experiencia corporal. Habrá SÓLO UNA SESIÓN POR LIBRO\, que constará de una discusión de las ideas\, opiniones y reflexiones que la obra provocó en todos los participantes. En esta discusión\, los asistentes podrán compartir sus dudas e impresiones del libro y resolverlas con el apoyo del especialista en literatura japonesa\, el Dr. Matías Chiappe Ippolito. \n\n\n\nEn esta tercera y última sesión dialogaremos sobre “Confesiones de una máscara”\, obra de Yukio Mishima. La cita es a las 16:00 h en la Biblioteca Vasconcelos (Eje 1 Nte. S/N\, Buenavista\, Cuauhtémoc\, Ciudad de México.) \n\n\n\n\n\n\n\n \n\n\n\nAquí compartimos un pequeño video informativo sobre el contexto y trasfondo de la obra\, para poder dialogar sobre los diferentes temas que aborda la obra de Hōjō Tamio en esta segunda sesión. \n\n\n\n \n\n\n\n\n\n\n\n\n\n \n\n\n\n¡Los esperamos!
URL:https://mc.jpf.go.jp/evento/3ra-sesion-del-club-de-lectura-2026-cartografias-del-cuerpo-sensaciones-enfermedad-y-deseo/
LOCATION:Biblioteca Vasconcelos\, Eje 1 Nte. S/N\, Buenavista\, Cuauhtémoc\, 06350 Ciudad de México\, CDMX
CATEGORIES:Arte y Cultura,Estudios sobre Japón
ATTACH;FMTTYPE=image/jpeg:https://mc.jpf.go.jp/wp-content/uploads/2025/12/club-de-lectura-short.jpg
END:VEVENT
BEGIN:VEVENT
DTSTART;TZID=America/Mexico_City:20260321T170000
DTEND;TZID=America/Mexico_City:20260425T190000
DTSTAMP:20260423T150115
CREATED:20260318T220239Z
LAST-MODIFIED:20260318T220240Z
UID:11590-1774112400-1777143600@mc.jpf.go.jp
SUMMARY:Ciclo de Cine Contemporáneo Japonés en el Museo Amparo
DESCRIPTION:Amigos de Puebla\, Fundación Japón en México 国際交流基金メキシコ日本文化センター y el Museo Amparo los invitamos a disfrutar del “Ciclo de cine japonés contemporáneo”\, los sábados del 21 de marzo al 25 de abril a las 17:00 h. \n\n\n\n\n\n\n\n \n\n\n\nEl 21 de marzo abrimos el ciclo con la película “Nobunaga Concerto” (Hiroaki Matsuyama\, 2016\, en donde un estudiante moderno viaja al periodo Sengoku y suplanta a Oda Nobunaga\, uno de los grandes unificadores del Japón. \n\n\n\n\n\n\n\n \n\n\n\n‍El 28 de marzo presentamos “Time Traveller: La chica que salta a través del tiempo” (Masaaki Taniguchi\, 2010). Akari viaja al pasado para cumplir el deseo de su madre\, pero llega en el año equivocado. \n\n\n\n\n\n\n\n \n\n\n\nEl 4 de abril se proyecta la película “Todos los días son un buen día” (Tatsushi Ōmori\, 2018) que cuenta la historia de Noriko después de comenzar clases de ceremonia del té. \n\n\n\n\n\n\n\n \n\n\n\nEl 11 de abril se presenta el film “Thermae Romae” (Hideki Takeuchi\, 2012)\, en donde un arquitecto romano sin inspiración descubre un túnel hacia baños japoneses modernos. \n\n\n\n\n\n\n\n \n\n\n\nEl 18 de abril presentamos “Confetti” (Naoya Fujita\, 2023)\, que cuenta la historia de Yuki\, miembro de una compañía de teatro itinerante que desea que sus nuevos amigos puedan verlo en el escenario. \n\n\n\n\n\n\n\n \n\n\n\nFinalmente\, el 25 de abril se presenta el film “¡Vamos al karaoke! (Nobuhiro Yamashita\, 2023)\, que muestra como nace una extraña amistad entre el jefe del club de coro de una secundaria y un miembro de la yakuza\, gracias a un concurso de karaoke. \n\n\n\n\n\n\n\n \n\n\n\n¡Los esperamos!
URL:https://mc.jpf.go.jp/evento/ciclo-de-cine-contemporaneo-japones-en-el-museo-amparo/
LOCATION:Museo Amparo\, C. 2 Sur 708\, Centro\, Puebla de Zaragoza\, Puebla\, 72000\, Mexico
CATEGORIES:Arte y Cultura,Cine
ATTACH;FMTTYPE=image/jpeg:https://mc.jpf.go.jp/wp-content/uploads/2026/03/cine-amparo_1.jpg
END:VEVENT
BEGIN:VEVENT
DTSTART;TZID=America/Mexico_City:20260325T180000
DTEND;TZID=America/Mexico_City:20260325T200000
DTSTAMP:20260423T150115
CREATED:20260309T222407Z
LAST-MODIFIED:20260309T222409Z
UID:11586-1774461600-1774468800@mc.jpf.go.jp
SUMMARY:Inauguración "Exposición Comunitaria: Archivos del afecto. Memorias familiares de la migración japonesa a México".
DESCRIPTION:Fundación Japón en México y el Museo Nacional de las Culturas del Mundo tienen el honor de invitarlos a la inauguración de la Exposición Comunitaria: “Archivos del Afecto. Memorias familiares de la migración japonesa a México” \n\n\n\n\n\n\n\n \n\n\n\nExhibición que reúne fotografías\, documentos\, cartas y objetos personales que forman parte de las historias íntimas de la comunidad nikkei en México. A través de estos archivos familiares\, la muestra propone un recorrido por la memoria\, la identidad y los lazos afectivos que han tejido la historia de la migración japonesa en nuestro país. \n\n\n\nLa cita es: \n\n\n\n MIÉRCOLES 25 DE MARZO 2026 \n\n\n\n 18:00 h \n\n\n\n Museo Nacional de las Culturas del Mundo (Moneda 13\, Centro Histórico de la Cdad. de México\, Centro\, Cuauhtémoc.) \n\n\n\n“Archivos del Afecto” es una invitación a mirar el pasado desde la cercanía de lo cotidiano y a reconocer cómo las memorias familiares construyen puentes entre generaciones y territorios. \n\n\n\n¡Acompáñanos en esta celebración de la memoria y la comunidad!
URL:https://mc.jpf.go.jp/evento/inauguracion-exposicion-comunitaria-archivos-del-afecto-memorias-familiares-de-la-migracion-japonesa-a-mexico/
LOCATION:Museo Nacional de las Culturas del Mundo\, Moneda 13\, Ciudad de México\, Ciudad de México\, 06000\, Mexico
CATEGORIES:Arte y Cultura
ATTACH;FMTTYPE=image/jpeg:https://mc.jpf.go.jp/wp-content/uploads/2026/03/Invitacion-Expo-Archivos-LOGOS.jpeg
END:VEVENT
END:VCALENDAR