BEGIN:VCALENDAR
VERSION:2.0
PRODID:-//Fundación Japón - ECPv6.15.20//NONSGML v1.0//EN
CALSCALE:GREGORIAN
METHOD:PUBLISH
X-ORIGINAL-URL:https://mc.jpf.go.jp
X-WR-CALDESC:Eventos para Fundación Japón
REFRESH-INTERVAL;VALUE=DURATION:PT1H
X-Robots-Tag:noindex
X-PUBLISHED-TTL:PT1H
BEGIN:VTIMEZONE
TZID:America/Mexico_City
BEGIN:DAYLIGHT
TZOFFSETFROM:-0600
TZOFFSETTO:-0500
TZNAME:CDT
DTSTART:20250406T080000
END:DAYLIGHT
BEGIN:STANDARD
TZOFFSETFROM:-0500
TZOFFSETTO:-0600
TZNAME:CST
DTSTART:20251026T070000
END:STANDARD
BEGIN:DAYLIGHT
TZOFFSETFROM:-0600
TZOFFSETTO:-0500
TZNAME:CDT
DTSTART:20260405T080000
END:DAYLIGHT
BEGIN:STANDARD
TZOFFSETFROM:-0500
TZOFFSETTO:-0600
TZNAME:CST
DTSTART:20261025T070000
END:STANDARD
BEGIN:DAYLIGHT
TZOFFSETFROM:-0600
TZOFFSETTO:-0500
TZNAME:CDT
DTSTART:20270404T080000
END:DAYLIGHT
BEGIN:STANDARD
TZOFFSETFROM:-0500
TZOFFSETTO:-0600
TZNAME:CST
DTSTART:20271031T070000
END:STANDARD
END:VTIMEZONE
BEGIN:VEVENT
DTSTART;TZID=America/Mexico_City:20260321T170000
DTEND;TZID=America/Mexico_City:20260425T190000
DTSTAMP:20260423T132512
CREATED:20260318T220239Z
LAST-MODIFIED:20260318T220240Z
UID:11590-1774112400-1777143600@mc.jpf.go.jp
SUMMARY:Ciclo de Cine Contemporáneo Japonés en el Museo Amparo
DESCRIPTION:Amigos de Puebla\, Fundación Japón en México 国際交流基金メキシコ日本文化センター y el Museo Amparo los invitamos a disfrutar del “Ciclo de cine japonés contemporáneo”\, los sábados del 21 de marzo al 25 de abril a las 17:00 h. \n\n\n\n\n\n\n\n \n\n\n\nEl 21 de marzo abrimos el ciclo con la película “Nobunaga Concerto” (Hiroaki Matsuyama\, 2016\, en donde un estudiante moderno viaja al periodo Sengoku y suplanta a Oda Nobunaga\, uno de los grandes unificadores del Japón. \n\n\n\n\n\n\n\n \n\n\n\n‍El 28 de marzo presentamos “Time Traveller: La chica que salta a través del tiempo” (Masaaki Taniguchi\, 2010). Akari viaja al pasado para cumplir el deseo de su madre\, pero llega en el año equivocado. \n\n\n\n\n\n\n\n \n\n\n\nEl 4 de abril se proyecta la película “Todos los días son un buen día” (Tatsushi Ōmori\, 2018) que cuenta la historia de Noriko después de comenzar clases de ceremonia del té. \n\n\n\n\n\n\n\n \n\n\n\nEl 11 de abril se presenta el film “Thermae Romae” (Hideki Takeuchi\, 2012)\, en donde un arquitecto romano sin inspiración descubre un túnel hacia baños japoneses modernos. \n\n\n\n\n\n\n\n \n\n\n\nEl 18 de abril presentamos “Confetti” (Naoya Fujita\, 2023)\, que cuenta la historia de Yuki\, miembro de una compañía de teatro itinerante que desea que sus nuevos amigos puedan verlo en el escenario. \n\n\n\n\n\n\n\n \n\n\n\nFinalmente\, el 25 de abril se presenta el film “¡Vamos al karaoke! (Nobuhiro Yamashita\, 2023)\, que muestra como nace una extraña amistad entre el jefe del club de coro de una secundaria y un miembro de la yakuza\, gracias a un concurso de karaoke. \n\n\n\n\n\n\n\n \n\n\n\n¡Los esperamos!
URL:https://mc.jpf.go.jp/evento/ciclo-de-cine-contemporaneo-japones-en-el-museo-amparo/
LOCATION:Museo Amparo\, C. 2 Sur 708\, Centro\, Puebla de Zaragoza\, Puebla\, 72000\, Mexico
CATEGORIES:Arte y Cultura,Cine
ATTACH;FMTTYPE=image/jpeg:https://mc.jpf.go.jp/wp-content/uploads/2026/03/cine-amparo_1.jpg
END:VEVENT
END:VCALENDAR